OziExplorer Map Data File Version 2.2
100k--j41-007.gif
100k--j41-007.gif
1 ,Map Code,
Pulkovo 1942 (2),WGS 84, 0.0000, 0.0000,WGS 84
Reserved 1
Reserved 2
Magnetic Variation,,,E
Map Projection,Transverse Mercator,PolyCal,No,AutoCalOnly,No,BSBUseWPX,No
Point01,xy, 102, 98,in, deg, 40, 0.0000,N, 63, 0.0000,E, grid, , , ,N
Point02,xy, 1783, 102,in, deg, 40, 0.0000,N, 63, 15.0000,E, grid, , , ,N
Point03,xy, 3460, 100,in, deg, 40, 0.0000,N, 63, 30.0000,E, grid, , , ,N
Point04,xy, 93, 1558,in, deg, 39, 50.0000,N, 63, 0.0000,E, grid, , , ,N
Point05,xy, 1780, 1562,in, deg, 39, 50.0000,N, 63, 15.0000,E, grid, , , ,N
Point06,xy, 3464, 1560,in, deg, 39, 50.0000,N, 63, 30.0000,E, grid, , , ,N
Point07,xy, 90, 3012,in, deg, 39, 40.0000,N, 63, 0.0000,E, grid, , , ,N
Point08,xy, 1778, 3016,in, deg, 39, 40.0000,N, 63, 15.0000,E, grid, , , ,N
Point09,xy, 3465, 3012,in, deg, 39, 40.0000,N, 63, 30.0000,E, grid, , , ,N
Point10,xy, , ,in, deg, , ,N, , ,W, grid, , , ,N
Point11,xy, , ,in, deg, , ,N, , ,W, grid, , , ,N
Point12,xy, , ,in, deg, , ,N, , ,W, grid, , , ,N
Point13,xy, , ,in, deg, , ,N, , ,W, grid, , , ,N
Point14,xy, , ,in, deg, , ,N, , ,W, grid, , , ,N
Point15,xy, , ,in, deg, , ,N, , ,W, grid, , , ,N
Point16,xy, , ,in, deg, , ,N, , ,W, grid, , , ,N
Point17,xy, , ,in, deg, , ,N, , ,W, grid, , , ,N
Point18,xy, , ,in, deg, , ,N, , ,W, grid, , , ,N
Point19,xy, , ,in, deg, , ,N, , ,W, grid, , , ,N
Point20,xy, , ,in, deg, , ,N, , ,W, grid, , , ,N
Point21,xy, , ,in, deg, , ,N, , ,W, grid, , , ,N
Point22,xy, , ,in, deg, , ,N, , ,W, grid, , , ,N
Point23,xy, , ,in, deg, , ,N, , ,W, grid, , , ,N
Point24,xy, , ,in, deg, , ,N, , ,W, grid, , , ,N
Point25,xy, , ,in, deg, , ,N, , ,W, grid, , , ,N
Point26,xy, , ,in, deg, , ,N, , ,W, grid, , , ,N
Point27,xy, , ,in, deg, , ,N, , ,W, grid, , , ,N
Point28,xy, , ,in, deg, , ,N, , ,W, grid, , , ,N
Point29,xy, , ,in, deg, , ,N, , ,W, grid, , , ,N
Point30,xy, , ,in, deg, , ,N, , ,W, grid, , , ,N
Projection Setup, 0.000000000, 63.000000000, 1.000000000, 500000.00, 0.00,,,,,
Map Feature = MF ; Map Comment = MC These follow if they exist
Track File = TF These follow if they exist
Moving Map Parameters = MM? These follow if they exist
MM0,Yes
MMPNUM,4
MMPXY,1,114,99
MMPXY,2,3440,99
MMPXY,3,3440,3005
MMPXY,4,114,3005
MMPLL,1, 63.001857, 40.000081
MMPLL,2, 63.496820, 40.000231
MMPLL,3, 63.496223, 39.667742
MMPLL,4, 63.003641, 39.667588
MM1B,12.703102
MOP,Map Open Position,0,0
IWH,Map Image Width/Height,3554,3104
