OziExplorer Map Data File Version 2.2
100k--j41-006.gif
100k--j41-006.gif
1 ,Map Code,
Pulkovo 1942 (2),WGS 84, 0.0000, 0.0000,WGS 84
Reserved 1
Reserved 2
Magnetic Variation,,,E
Map Projection,Transverse Mercator,PolyCal,No,AutoCalOnly,No,BSBUseWPX,No
Point01,xy, 114, 103,in, deg, 40, 0.0000,N, 62, 30.0000,E, grid, , , ,N
Point02,xy, 1790, 103,in, deg, 40, 0.0000,N, 62, 45.0000,E, grid, , , ,N
Point03,xy, 3469, 96,in, deg, 40, 0.0000,N, 63, 0.0000,E, grid, , , ,N
Point04,xy, 110, 1560,in, deg, 39, 50.0000,N, 62, 30.0000,E, grid, , , ,N
Point05,xy, 1794, 1559,in, deg, 39, 50.0000,N, 62, 45.0000,E, grid, , , ,N
Point06,xy, 3477, 1555,in, deg, 39, 50.0000,N, 63, 0.0000,E, grid, , , ,N
Point07,xy, 108, 3014,in, deg, 39, 40.0000,N, 62, 30.0000,E, grid, , , ,N
Point08,xy, 1798, 3013,ex, deg, 39, 40.0000,N, 62, 45.0000,E, grid, , , ,N
Point09,xy, 3482, 3006,in, deg, 39, 40.0000,N, 63, 0.0000,E, grid, , , ,N
Point10,xy, , ,in, deg, , ,N, , ,W, grid, , , ,N
Point11,xy, , ,in, deg, , ,N, , ,W, grid, , , ,N
Point12,xy, , ,in, deg, , ,N, , ,W, grid, , , ,N
Point13,xy, , ,in, deg, , ,N, , ,W, grid, , , ,N
Point14,xy, , ,in, deg, , ,N, , ,W, grid, , , ,N
Point15,xy, , ,in, deg, , ,N, , ,W, grid, , , ,N
Point16,xy, , ,in, deg, , ,N, , ,W, grid, , , ,N
Point17,xy, , ,in, deg, , ,N, , ,W, grid, , , ,N
Point18,xy, , ,in, deg, , ,N, , ,W, grid, , , ,N
Point19,xy, , ,in, deg, , ,N, , ,W, grid, , , ,N
Point20,xy, , ,in, deg, , ,N, , ,W, grid, , , ,N
Point21,xy, , ,in, deg, , ,N, , ,W, grid, , , ,N
Point22,xy, , ,in, deg, , ,N, , ,W, grid, , , ,N
Point23,xy, , ,in, deg, , ,N, , ,W, grid, , , ,N
Point24,xy, , ,in, deg, , ,N, , ,W, grid, , , ,N
Point25,xy, , ,in, deg, , ,N, , ,W, grid, , , ,N
Point26,xy, , ,in, deg, , ,N, , ,W, grid, , , ,N
Point27,xy, , ,in, deg, , ,N, , ,W, grid, , , ,N
Point28,xy, , ,in, deg, , ,N, , ,W, grid, , , ,N
Point29,xy, , ,in, deg, , ,N, , ,W, grid, , , ,N
Point30,xy, , ,in, deg, , ,N, , ,W, grid, , , ,N
Projection Setup, 0.000000000, 63.000000000, 1.000000000, 500000.00, 0.00,,,,,
Map Feature = MF ; Map Comment = MC These follow if they exist
Track File = TF These follow if they exist
Moving Map Parameters = MM? These follow if they exist
MM0,Yes
MMPNUM,4
MMPXY,1,115,100
MMPXY,2,3476,100
MMPXY,3,3476,3014
MMPXY,4,115,3014
MMPLL,1, 62.500356, 40.000445
MMPLL,2, 63.000922, 39.999683
MMPLL,3, 62.999101, 39.665946
MMPLL,4, 62.500952, 39.666713
MM1B,12.713077
MOP,Map Open Position,0,0
IWH,Map Image Width/Height,3591,3114
