OziExplorer Map Data File Version 2.2
100k--j41-002.gif
100k--j41-002.gif
1 ,Map Code,
Pulkovo 1942 (2),WGS 84, 0.0000, 0.0000,WGS 84
Reserved 1
Reserved 2
Magnetic Variation,,,E
Map Projection,Transverse Mercator,PolyCal,No,AutoCalOnly,No,BSBUseWPX,No
Point01,xy, 116, 109,in, deg, 40, 0.0000,N, 60, 30.0000,E, grid, , , ,N
Point02,xy, 1796, 109,in, deg, 40, 0.0000,N, 60, 45.0000,E, grid, , , ,N
Point03,xy, 3476, 104,in, deg, 40, 0.0000,N, 61, 0.0000,E, grid, , , ,N
Point04,xy, 113, 1566,in, deg, 39, 50.0000,N, 60, 30.0000,E, grid, , , ,N
Point05,xy, 1798, 1565,in, deg, 39, 50.0000,N, 60, 45.0000,E, grid, , , ,N
Point06,xy, 3484, 1562,in, deg, 39, 50.0000,N, 61, 0.0000,E, grid, , , ,N
Point07,xy, 111, 3018,in, deg, 39, 40.0000,N, 60, 30.0000,E, grid, , , ,N
Point08,xy, 1801, 3016,in, deg, 39, 40.0000,N, 60, 45.0000,E, grid, , , ,N
Point09,xy, 3486, 3007,in, deg, 39, 40.0000,N, 61, 0.0000,E, grid, , , ,N
Point10,xy, , ,in, deg, , ,N, , ,W, grid, , , ,N
Point11,xy, , ,in, deg, , ,N, , ,W, grid, , , ,N
Point12,xy, , ,in, deg, , ,N, , ,W, grid, , , ,N
Point13,xy, , ,in, deg, , ,N, , ,W, grid, , , ,N
Point14,xy, , ,in, deg, , ,N, , ,W, grid, , , ,N
Point15,xy, , ,in, deg, , ,N, , ,W, grid, , , ,N
Point16,xy, , ,in, deg, , ,N, , ,W, grid, , , ,N
Point17,xy, , ,in, deg, , ,N, , ,W, grid, , , ,N
Point18,xy, , ,in, deg, , ,N, , ,W, grid, , , ,N
Point19,xy, , ,in, deg, , ,N, , ,W, grid, , , ,N
Point20,xy, , ,in, deg, , ,N, , ,W, grid, , , ,N
Point21,xy, , ,in, deg, , ,N, , ,W, grid, , , ,N
Point22,xy, , ,in, deg, , ,N, , ,W, grid, , , ,N
Point23,xy, , ,in, deg, , ,N, , ,W, grid, , , ,N
Point24,xy, , ,in, deg, , ,N, , ,W, grid, , , ,N
Point25,xy, , ,in, deg, , ,N, , ,W, grid, , , ,N
Point26,xy, , ,in, deg, , ,N, , ,W, grid, , , ,N
Point27,xy, , ,in, deg, , ,N, , ,W, grid, , , ,N
Point28,xy, , ,in, deg, , ,N, , ,W, grid, , , ,N
Point29,xy, , ,in, deg, , ,N, , ,W, grid, , , ,N
Point30,xy, , ,in, deg, , ,N, , ,W, grid, , , ,N
Projection Setup, 0.000000000, 63.000000000, 1.000000000, 500000.00, 0.00,,,,,
Map Feature = MF ; Map Comment = MC These follow if they exist
Track File = TF These follow if they exist
Moving Map Parameters = MM? These follow if they exist
MM0,Yes
MMPNUM,4
MMPXY,1,115,100
MMPXY,2,3475,100
MMPXY,3,3475,3028
MMPXY,4,115,3028
MMPLL,1, 60.499855, 40.001261
MMPLL,2, 60.999784, 40.000533
MMPLL,3, 60.998072, 39.664685
MMPLL,4, 60.500573, 39.665480
MM1B,12.701706
MOP,Map Open Position,0,0
IWH,Map Image Width/Height,3590,3128
