OziExplorer Map Data File Version 2.2
001m--j41.gif
001m--j41.gif
1 ,Map Code,
Pulkovo 1942 (2),WGS 84, 0.0000, 0.0000,WGS 84
Reserved 1
Reserved 2
Magnetic Variation,,,E
Map Projection,Transverse Mercator,PolyCal,No,AutoCalOnly,No,BSBUseWPX,No
Point01,xy, 138, 109,in, deg, 40, 0.0000,N, 60, 0.0000,E, grid, , , ,N
Point02,xy, 2154, 124,in, deg, 40, 0.0000,N, 63, 0.0000,E, grid, , , ,N
Point03,xy, 4167, 65,in, deg, 40, 0.0000,N, 66, 0.0000,E, grid, , , ,N
Point04,xy, 98, 1856,in, deg, 38, 0.0000,N, 60, 0.0000,E, grid, , , ,N
Point05,xy, 2170, 1871,in, deg, 38, 0.0000,N, 63, 0.0000,E, grid, , , ,N
Point06,xy, 4243, 1814,in, deg, 38, 0.0000,N, 66, 0.0000,E, grid, , , ,N
Point07,xy, 60, 3606,in, deg, 36, 0.0000,N, 60, 0.0000,E, grid, , , ,N
Point08,xy, 2188, 3618,in, deg, 36, 0.0000,N, 63, 0.0000,E, grid, , , ,N
Point09,xy, 4317, 3560,in, deg, 36, 0.0000,N, 66, 0.0000,E, grid, , , ,N
Point10,xy, , ,in, deg, , ,N, , ,W, grid, , , ,N
Point11,xy, , ,in, deg, , ,N, , ,W, grid, , , ,N
Point12,xy, , ,in, deg, , ,N, , ,W, grid, , , ,N
Point13,xy, , ,in, deg, , ,N, , ,W, grid, , , ,N
Point14,xy, , ,in, deg, , ,N, , ,W, grid, , , ,N
Point15,xy, , ,in, deg, , ,N, , ,W, grid, , , ,N
Point16,xy, , ,in, deg, , ,N, , ,W, grid, , , ,N
Point17,xy, , ,in, deg, , ,N, , ,W, grid, , , ,N
Point18,xy, , ,in, deg, , ,N, , ,W, grid, , , ,N
Point19,xy, , ,in, deg, , ,N, , ,W, grid, , , ,N
Point20,xy, , ,in, deg, , ,N, , ,W, grid, , , ,N
Point21,xy, , ,in, deg, , ,N, , ,W, grid, , , ,N
Point22,xy, , ,in, deg, , ,N, , ,W, grid, , , ,N
Point23,xy, , ,in, deg, , ,N, , ,W, grid, , , ,N
Point24,xy, , ,in, deg, , ,N, , ,W, grid, , , ,N
Point25,xy, , ,in, deg, , ,N, , ,W, grid, , , ,N
Point26,xy, , ,in, deg, , ,N, , ,W, grid, , , ,N
Point27,xy, , ,in, deg, , ,N, , ,W, grid, , , ,N
Point28,xy, , ,in, deg, , ,N, , ,W, grid, , , ,N
Point29,xy, , ,in, deg, , ,N, , ,W, grid, , , ,N
Point30,xy, , ,in, deg, , ,N, , ,W, grid, , , ,N
Projection Setup, 0.000000000, 63.000000000, 1.000000000, 500000.00, 0.00,,,,,
Map Feature = MF ; Map Comment = MC These follow if they exist
Track File = TF These follow if they exist
Moving Map Parameters = MM? These follow if they exist
MM0,Yes
MMPNUM,4
MMPXY,1,138,109
MMPXY,2,4167,65
MMPXY,3,4317,3560
MMPXY,4,60,3606
MMPLL,1, 60.000000, 40.000000
MMPLL,2, 66.000000, 40.000000
MMPLL,3, 66.000000, 36.000000
MMPLL,4, 60.000000, 36.000000
MM1B,120.488467
MOP,Map Open Position,0,0
IWH,Map Image Width/Height,4396,3685
