OziExplorer Map Data File Version 2.2
200k--j37-23.gif
200k--j37-23.gif
1 ,Map Code,
Pulkovo 1942 (2),WGS 84, 0.0000, 0.0000,WGS 84
Reserved 1
Reserved 2
Magnetic Variation,,,E
Map Projection,Transverse Mercator,PolyCal,No,AutoCalOnly,No,BSBUseWPX,No
Point01,xy, 101, 83,in, deg, 38, 0.0000,N, 40, 0.0000,E, grid, , , ,N
Point02,xy, 1831, 90,in, deg, 38, 0.0000,N, 40, 30.0000,E, grid, , , ,N
Point03,xy, 3562, 95,in, deg, 38, 0.0000,N, 41, 0.0000,E, grid, , , ,N
Point04,xy, 91, 1542,in, deg, 37, 40.0000,N, 40, 0.0000,E, grid, , , ,N
Point05,xy, 1829, 1553,in, deg, 37, 40.0000,N, 40, 30.0000,E, grid, , , ,N
Point06,xy, 3569, 1554,in, deg, 37, 40.0000,N, 41, 0.0000,E, grid, , , ,N
Point07,xy, 82, 3002,in, deg, 37, 20.0000,N, 40, 0.0000,E, grid, , , ,N
Point08,xy, 1829, 3017,in, deg, 37, 20.0000,N, 40, 30.0000,E, grid, , , ,N
Point09,xy, 3575, 3015,in, deg, 37, 20.0000,N, 41, 0.0000,E, grid, , , ,N
Point10,xy, , ,in, deg, , ,N, , ,W, grid, , , ,N
Point11,xy, , ,in, deg, , ,N, , ,W, grid, , , ,N
Point12,xy, , ,in, deg, , ,N, , ,W, grid, , , ,N
Point13,xy, , ,in, deg, , ,N, , ,W, grid, , , ,N
Point14,xy, , ,in, deg, , ,N, , ,W, grid, , , ,N
Point15,xy, , ,in, deg, , ,N, , ,W, grid, , , ,N
Point16,xy, , ,in, deg, , ,N, , ,W, grid, , , ,N
Point17,xy, , ,in, deg, , ,N, , ,W, grid, , , ,N
Point18,xy, , ,in, deg, , ,N, , ,W, grid, , , ,N
Point19,xy, , ,in, deg, , ,N, , ,W, grid, , , ,N
Point20,xy, , ,in, deg, , ,N, , ,W, grid, , , ,N
Point21,xy, , ,in, deg, , ,N, , ,W, grid, , , ,N
Point22,xy, , ,in, deg, , ,N, , ,W, grid, , , ,N
Point23,xy, , ,in, deg, , ,N, , ,W, grid, , , ,N
Point24,xy, , ,in, deg, , ,N, , ,W, grid, , , ,N
Point25,xy, , ,in, deg, , ,N, , ,W, grid, , , ,N
Point26,xy, , ,in, deg, , ,N, , ,W, grid, , , ,N
Point27,xy, , ,in, deg, , ,N, , ,W, grid, , , ,N
Point28,xy, , ,in, deg, , ,N, , ,W, grid, , , ,N
Point29,xy, , ,in, deg, , ,N, , ,W, grid, , , ,N
Point30,xy, , ,in, deg, , ,N, , ,W, grid, , , ,N
Projection Setup, 0.000000000, 39.000000000, 1.000000000, 500000.00, 0.00,,,,,
Map Feature = MF ; Map Comment = MC These follow if they exist
Track File = TF These follow if they exist
Moving Map Parameters = MM? These follow if they exist
MM0,Yes
MMPNUM,4
MMPXY,1,117,99
MMPXY,2,3540,99
MMPXY,3,3540,2999
MMPXY,4,117,2999
MMPLL,1, 40.004839, 37.996067
MMPLL,2, 40.993606, 37.998749
MMPLL,3, 40.989999, 37.337215
MMPLL,4, 40.009976, 37.334351
MM1B,25.363234
MOP,Map Open Position,0,0
IWH,Map Image Width/Height,3657,3098
