OziExplorer Map Data File Version 2.2
200k--j37-16.gif
200k--j37-16.gif
1 ,Map Code,
Pulkovo 1942 (2),WGS 84, 0.0000, 0.0000,WGS 84
Reserved 1
Reserved 2
Magnetic Variation,,,E
Map Projection,Transverse Mercator,PolyCal,No,AutoCalOnly,No,BSBUseWPX,No
Point01,xy, 96, 84,in, deg, 38, 40.0000,N, 39, 0.0000,E, grid, , , ,N
Point02,xy, 1810, 88,in, deg, 38, 40.0000,N, 39, 30.0000,E, grid, , , ,N
Point03,xy, 3526, 82,in, deg, 38, 40.0000,N, 40, 0.0000,E, grid, , , ,N
Point04,xy, 90, 1542,in, deg, 38, 20.0000,N, 39, 0.0000,E, grid, , , ,N
Point05,xy, 1814, 1548,in, deg, 38, 20.0000,N, 39, 30.0000,E, grid, , , ,N
Point06,xy, 3538, 1544,in, deg, 38, 20.0000,N, 40, 0.0000,E, grid, , , ,N
Point07,xy, 84, 3004,in, deg, 38, 0.0000,N, 39, 0.0000,E, grid, , , ,N
Point08,xy, 1820, 3011,in, deg, 38, 0.0000,N, 39, 30.0000,E, grid, , , ,N
Point09,xy, 3548, 3004,in, deg, 38, 0.0000,N, 40, 0.0000,E, grid, , , ,N
Point10,xy, , ,in, deg, , ,N, , ,W, grid, , , ,N
Point11,xy, , ,in, deg, , ,N, , ,W, grid, , , ,N
Point12,xy, , ,in, deg, , ,N, , ,W, grid, , , ,N
Point13,xy, , ,in, deg, , ,N, , ,W, grid, , , ,N
Point14,xy, , ,in, deg, , ,N, , ,W, grid, , , ,N
Point15,xy, , ,in, deg, , ,N, , ,W, grid, , , ,N
Point16,xy, , ,in, deg, , ,N, , ,W, grid, , , ,N
Point17,xy, , ,in, deg, , ,N, , ,W, grid, , , ,N
Point18,xy, , ,in, deg, , ,N, , ,W, grid, , , ,N
Point19,xy, , ,in, deg, , ,N, , ,W, grid, , , ,N
Point20,xy, , ,in, deg, , ,N, , ,W, grid, , , ,N
Point21,xy, , ,in, deg, , ,N, , ,W, grid, , , ,N
Point22,xy, , ,in, deg, , ,N, , ,W, grid, , , ,N
Point23,xy, , ,in, deg, , ,N, , ,W, grid, , , ,N
Point24,xy, , ,in, deg, , ,N, , ,W, grid, , , ,N
Point25,xy, , ,in, deg, , ,N, , ,W, grid, , , ,N
Point26,xy, , ,in, deg, , ,N, , ,W, grid, , , ,N
Point27,xy, , ,in, deg, , ,N, , ,W, grid, , , ,N
Point28,xy, , ,in, deg, , ,N, , ,W, grid, , , ,N
Point29,xy, , ,in, deg, , ,N, , ,W, grid, , , ,N
Point30,xy, , ,in, deg, , ,N, , ,W, grid, , , ,N
Projection Setup, 0.000000000, 39.000000000, 1.000000000, 500000.00, 0.00,,,,,
Map Feature = MF ; Map Comment = MC These follow if they exist
Track File = TF These follow if they exist
Moving Map Parameters = MM? These follow if they exist
MM0,Yes
MMPNUM,4
MMPXY,1,116,99
MMPXY,2,3508,99
MMPXY,3,3508,2994
MMPXY,4,116,2994
MMPLL,1, 39.006162, 38.663014
MMPLL,2, 39.994594, 38.662981
MMPLL,3, 39.988216, 38.002459
MMPLL,4, 39.008718, 38.002415
MM1B,25.352886
MOP,Map Open Position,0,0
IWH,Map Image Width/Height,3624,3093
