OziExplorer Map Data File Version 2.2
200k--j37-14.gif
200k--j37-14.gif
1 ,Map Code,
Pulkovo 1942 (2),WGS 84, 0.0000, 0.0000,WGS 84
Reserved 1
Reserved 2
Magnetic Variation,,,E
Map Projection,Transverse Mercator,PolyCal,No,AutoCalOnly,No,BSBUseWPX,No
Point01,xy, 104, 86,in, deg, 38, 40.0000,N, 37, 0.0000,E, grid, , , ,N
Point02,xy, 1818, 92,in, deg, 38, 40.0000,N, 37, 30.0000,E, grid, , , ,N
Point03,xy, 3533, 93,in, deg, 38, 40.0000,N, 38, 0.0000,E, grid, , , ,N
Point04,xy, 96, 1544,in, deg, 38, 20.0000,N, 37, 0.0000,E, grid, , , ,N
Point05,xy, 1817, 1552,in, deg, 38, 20.0000,N, 37, 30.0000,E, grid, , , ,N
Point06,xy, 3540, 1552,in, deg, 38, 20.0000,N, 38, 0.0000,E, grid, , , ,N
Point07,xy, 88, 3002,in, deg, 38, 0.0000,N, 37, 0.0000,E, grid, , , ,N
Point08,xy, 1817, 3012,in, deg, 38, 0.0000,N, 37, 30.0000,E, grid, , , ,N
Point09,xy, 3546, 3011,in, deg, 38, 0.0000,N, 38, 0.0000,E, grid, , , ,N
Point10,xy, , ,in, deg, , ,N, , ,W, grid, , , ,N
Point11,xy, , ,in, deg, , ,N, , ,W, grid, , , ,N
Point12,xy, , ,in, deg, , ,N, , ,W, grid, , , ,N
Point13,xy, , ,in, deg, , ,N, , ,W, grid, , , ,N
Point14,xy, , ,in, deg, , ,N, , ,W, grid, , , ,N
Point15,xy, , ,in, deg, , ,N, , ,W, grid, , , ,N
Point16,xy, , ,in, deg, , ,N, , ,W, grid, , , ,N
Point17,xy, , ,in, deg, , ,N, , ,W, grid, , , ,N
Point18,xy, , ,in, deg, , ,N, , ,W, grid, , , ,N
Point19,xy, , ,in, deg, , ,N, , ,W, grid, , , ,N
Point20,xy, , ,in, deg, , ,N, , ,W, grid, , , ,N
Point21,xy, , ,in, deg, , ,N, , ,W, grid, , , ,N
Point22,xy, , ,in, deg, , ,N, , ,W, grid, , , ,N
Point23,xy, , ,in, deg, , ,N, , ,W, grid, , , ,N
Point24,xy, , ,in, deg, , ,N, , ,W, grid, , , ,N
Point25,xy, , ,in, deg, , ,N, , ,W, grid, , , ,N
Point26,xy, , ,in, deg, , ,N, , ,W, grid, , , ,N
Point27,xy, , ,in, deg, , ,N, , ,W, grid, , , ,N
Point28,xy, , ,in, deg, , ,N, , ,W, grid, , , ,N
Point29,xy, , ,in, deg, , ,N, , ,W, grid, , , ,N
Point30,xy, , ,in, deg, , ,N, , ,W, grid, , , ,N
Projection Setup, 0.000000000, 39.000000000, 1.000000000, 500000.00, 0.00,,,,,
Map Feature = MF ; Map Comment = MC These follow if they exist
Track File = TF These follow if they exist
Moving Map Parameters = MM? These follow if they exist
MM0,Yes
MMPNUM,4
MMPXY,1,116,99
MMPXY,2,3519,99
MMPXY,3,3519,2999
MMPXY,4,116,2999
MMPLL,1, 37.003410, 38.663392
MMPLL,2, 37.996125, 38.665293
MMPLL,3, 37.992008, 38.002666
MMPLL,4, 37.008296, 38.000953
MM1B,25.382669
MOP,Map Open Position,0,0
IWH,Map Image Width/Height,3635,3098
