OziExplorer Map Data File Version 2.2
200k--j37-09.gif
200k--j37-09.gif
1 ,Map Code,
Pulkovo 1942 (2),WGS 84, 0.0000, 0.0000,WGS 84
Reserved 1
Reserved 2
Magnetic Variation,,,E
Map Projection,Transverse Mercator,PolyCal,No,AutoCalOnly,No,BSBUseWPX,No
Point01,xy, 86, 90,in, deg, 39, 20.0000,N, 38, 0.0000,E, grid, , , ,N
Point02,xy, 1783, 91,in, deg, 39, 20.0000,N, 38, 30.0000,E, grid, , , ,N
Point03,xy, 3483, 90,in, deg, 39, 20.0000,N, 39, 0.0000,E, grid, , , ,N
Point04,xy, 81, 1549,in, deg, 39, 0.0000,N, 38, 0.0000,E, grid, , , ,N
Point05,xy, 1786, 1554,in, deg, 39, 0.0000,N, 38, 30.0000,E, grid, , , ,N
Point06,xy, 3494, 1549,in, deg, 39, 0.0000,N, 39, 0.0000,E, grid, , , ,N
Point07,xy, 74, 3010,in, deg, 38, 40.0000,N, 38, 0.0000,E, grid, , , ,N
Point08,xy, 1790, 3018,in, deg, 38, 40.0000,N, 38, 30.0000,E, grid, , , ,N
Point09,xy, 3504, 3009,in, deg, 38, 40.0000,N, 39, 0.0000,E, grid, , , ,N
Point10,xy, , ,in, deg, , ,N, , ,W, grid, , , ,N
Point11,xy, , ,in, deg, , ,N, , ,W, grid, , , ,N
Point12,xy, , ,in, deg, , ,N, , ,W, grid, , , ,N
Point13,xy, , ,in, deg, , ,N, , ,W, grid, , , ,N
Point14,xy, , ,in, deg, , ,N, , ,W, grid, , , ,N
Point15,xy, , ,in, deg, , ,N, , ,W, grid, , , ,N
Point16,xy, , ,in, deg, , ,N, , ,W, grid, , , ,N
Point17,xy, , ,in, deg, , ,N, , ,W, grid, , , ,N
Point18,xy, , ,in, deg, , ,N, , ,W, grid, , , ,N
Point19,xy, , ,in, deg, , ,N, , ,W, grid, , , ,N
Point20,xy, , ,in, deg, , ,N, , ,W, grid, , , ,N
Point21,xy, , ,in, deg, , ,N, , ,W, grid, , , ,N
Point22,xy, , ,in, deg, , ,N, , ,W, grid, , , ,N
Point23,xy, , ,in, deg, , ,N, , ,W, grid, , , ,N
Point24,xy, , ,in, deg, , ,N, , ,W, grid, , , ,N
Point25,xy, , ,in, deg, , ,N, , ,W, grid, , , ,N
Point26,xy, , ,in, deg, , ,N, , ,W, grid, , , ,N
Point27,xy, , ,in, deg, , ,N, , ,W, grid, , , ,N
Point28,xy, , ,in, deg, , ,N, , ,W, grid, , , ,N
Point29,xy, , ,in, deg, , ,N, , ,W, grid, , , ,N
Point30,xy, , ,in, deg, , ,N, , ,W, grid, , , ,N
Projection Setup, 0.000000000, 39.000000000, 1.000000000, 500000.00, 0.00,,,,,
Map Feature = MF ; Map Comment = MC These follow if they exist
Track File = TF These follow if they exist
Moving Map Parameters = MM? These follow if they exist
MM0,Yes
MMPNUM,4
MMPXY,1,114,99
MMPXY,2,3462,99
MMPXY,3,3462,2991
MMPXY,4,114,2991
MMPLL,1, 38.008412, 39.331002
MMPLL,2, 38.993868, 39.330948
MMPLL,3, 38.987763, 38.671124
MMPLL,4, 38.011418, 38.671225
MM1B,25.369057
MOP,Map Open Position,0,0
IWH,Map Image Width/Height,3576,3090
