OziExplorer Map Data File Version 2.2
200k--j37-07.gif
200k--j37-07.gif
1 ,Map Code,
Pulkovo 1942 (2),WGS 84, 0.0000, 0.0000,WGS 84
Reserved 1
Reserved 2
Magnetic Variation,,,E
Map Projection,Transverse Mercator,PolyCal,No,AutoCalOnly,No,BSBUseWPX,No
Point01,xy, 103, 84,in, deg, 39, 20.0000,N, 36, 0.0000,E, grid, , , ,N
Point02,xy, 1801, 96,in, deg, 39, 20.0000,N, 36, 30.0000,E, grid, , , ,N
Point03,xy, 3502, 103,in, deg, 39, 20.0000,N, 37, 0.0000,E, grid, , , ,N
Point04,xy, 87, 1544,in, deg, 39, 0.0000,N, 36, 0.0000,E, grid, , , ,N
Point05,xy, 1795, 1558,in, deg, 39, 0.0000,N, 36, 30.0000,E, grid, , , ,N
Point06,xy, 3502, 1565,in, deg, 39, 0.0000,N, 37, 0.0000,E, grid, , , ,N
Point07,xy, 74, 3006,in, deg, 38, 40.0000,N, 36, 0.0000,E, grid, , , ,N
Point08,xy, 1789, 3025,in, deg, 38, 40.0000,N, 36, 30.0000,E, grid, , , ,N
Point09,xy, 3505, 3027,in, deg, 38, 40.0000,N, 37, 0.0000,E, grid, , , ,N
Point10,xy, , ,in, deg, , ,N, , ,W, grid, , , ,N
Point11,xy, , ,in, deg, , ,N, , ,W, grid, , , ,N
Point12,xy, , ,in, deg, , ,N, , ,W, grid, , , ,N
Point13,xy, , ,in, deg, , ,N, , ,W, grid, , , ,N
Point14,xy, , ,in, deg, , ,N, , ,W, grid, , , ,N
Point15,xy, , ,in, deg, , ,N, , ,W, grid, , , ,N
Point16,xy, , ,in, deg, , ,N, , ,W, grid, , , ,N
Point17,xy, , ,in, deg, , ,N, , ,W, grid, , , ,N
Point18,xy, , ,in, deg, , ,N, , ,W, grid, , , ,N
Point19,xy, , ,in, deg, , ,N, , ,W, grid, , , ,N
Point20,xy, , ,in, deg, , ,N, , ,W, grid, , , ,N
Point21,xy, , ,in, deg, , ,N, , ,W, grid, , , ,N
Point22,xy, , ,in, deg, , ,N, , ,W, grid, , , ,N
Point23,xy, , ,in, deg, , ,N, , ,W, grid, , , ,N
Point24,xy, , ,in, deg, , ,N, , ,W, grid, , , ,N
Point25,xy, , ,in, deg, , ,N, , ,W, grid, , , ,N
Point26,xy, , ,in, deg, , ,N, , ,W, grid, , , ,N
Point27,xy, , ,in, deg, , ,N, , ,W, grid, , , ,N
Point28,xy, , ,in, deg, , ,N, , ,W, grid, , , ,N
Point29,xy, , ,in, deg, , ,N, , ,W, grid, , , ,N
Point30,xy, , ,in, deg, , ,N, , ,W, grid, , , ,N
Projection Setup, 0.000000000, 39.000000000, 1.000000000, 500000.00, 0.00,,,,,
Map Feature = MF ; Map Comment = MC These follow if they exist
Track File = TF These follow if they exist
Moving Map Parameters = MM? These follow if they exist
MM0,Yes
MMPNUM,4
MMPXY,1,115,99
MMPXY,2,3481,99
MMPXY,3,3481,3008
MMPXY,4,115,3008
MMPLL,1, 36.003818, 39.329472
MMPLL,2, 36.994079, 39.334201
MMPLL,3, 36.993156, 38.671052
MMPLL,4, 36.012101, 38.666656
MM1B,25.365057
MOP,Map Open Position,0,0
IWH,Map Image Width/Height,3596,3107
