OziExplorer Map Data File Version 2.2
200k--j37-05.gif
200k--j37-05.gif
1 ,Map Code,
Pulkovo 1942 (2),WGS 84, 0.0000, 0.0000,WGS 84
Reserved 1
Reserved 2
Magnetic Variation,,,E
Map Projection,Transverse Mercator,PolyCal,No,AutoCalOnly,No,BSBUseWPX,No
Point01,xy, 98, 90,in, deg, 40, 0.0000,N, 40, 0.0000,E, grid, , , ,N
Point02,xy, 1784, 92,in, deg, 40, 0.0000,N, 40, 30.0000,E, grid, , , ,N
Point03,xy, 3468, 84,in, deg, 40, 0.0000,N, 41, 0.0000,E, grid, , , ,N
Point04,xy, 94, 1556,in, deg, 39, 40.0000,N, 40, 0.0000,E, grid, , , ,N
Point05,xy, 1786, 1558,in, deg, 39, 40.0000,N, 40, 30.0000,E, grid, , , ,N
Point06,xy, 3482, 1546,in, deg, 39, 40.0000,N, 41, 0.0000,E, grid, , , ,N
Point07,xy, 90, 3016,in, deg, 39, 20.0000,N, 40, 0.0000,E, grid, , , ,N
Point08,xy, 1793, 3020,in, deg, 39, 20.0000,N, 40, 30.0000,E, grid, , , ,N
Point09,xy, 3497, 3007,in, deg, 39, 20.0000,N, 41, 0.0000,E, grid, , , ,N
Point10,xy, , ,in, deg, , ,N, , ,W, grid, , , ,N
Point11,xy, , ,in, deg, , ,N, , ,W, grid, , , ,N
Point12,xy, , ,in, deg, , ,N, , ,W, grid, , , ,N
Point13,xy, , ,in, deg, , ,N, , ,W, grid, , , ,N
Point14,xy, , ,in, deg, , ,N, , ,W, grid, , , ,N
Point15,xy, , ,in, deg, , ,N, , ,W, grid, , , ,N
Point16,xy, , ,in, deg, , ,N, , ,W, grid, , , ,N
Point17,xy, , ,in, deg, , ,N, , ,W, grid, , , ,N
Point18,xy, , ,in, deg, , ,N, , ,W, grid, , , ,N
Point19,xy, , ,in, deg, , ,N, , ,W, grid, , , ,N
Point20,xy, , ,in, deg, , ,N, , ,W, grid, , , ,N
Point21,xy, , ,in, deg, , ,N, , ,W, grid, , , ,N
Point22,xy, , ,in, deg, , ,N, , ,W, grid, , , ,N
Point23,xy, , ,in, deg, , ,N, , ,W, grid, , , ,N
Point24,xy, , ,in, deg, , ,N, , ,W, grid, , , ,N
Point25,xy, , ,in, deg, , ,N, , ,W, grid, , , ,N
Point26,xy, , ,in, deg, , ,N, , ,W, grid, , , ,N
Point27,xy, , ,in, deg, , ,N, , ,W, grid, , , ,N
Point28,xy, , ,in, deg, , ,N, , ,W, grid, , , ,N
Point29,xy, , ,in, deg, , ,N, , ,W, grid, , , ,N
Point30,xy, , ,in, deg, , ,N, , ,W, grid, , , ,N
Projection Setup, 0.000000000, 39.000000000, 1.000000000, 500000.00, 0.00,,,,,
Map Feature = MF ; Map Comment = MC These follow if they exist
Track File = TF These follow if they exist
Moving Map Parameters = MM? These follow if they exist
MM0,Yes
MMPNUM,4
MMPXY,1,115,99
MMPXY,2,3467,99
MMPXY,3,3467,3004
MMPXY,4,115,3004
MMPLL,1, 40.005346, 39.998424
MMPLL,2, 40.999359, 39.996435
MMPLL,3, 40.991700, 39.334608
MMPLL,4, 40.007130, 39.336394
MM1B,25.316902
MOP,Map Open Position,0,0
IWH,Map Image Width/Height,3582,3103
