OziExplorer Map Data File Version 2.2
100k--j37-104.gif
100k--j37-104.gif
1 ,Map Code,
Pulkovo 1942 (2),WGS 84, 0.0000, 0.0000,WGS 84
Reserved 1
Reserved 2
Magnetic Variation,,,E
Map Projection,Transverse Mercator,PolyCal,No,AutoCalOnly,No,BSBUseWPX,No
Point01,xy, 59, 55,in, deg, 37, 20.0000,N, 39, 30.0000,E, grid, , , ,N
Point02,xy, 1281, 61,in, deg, 37, 20.0000,N, 39, 45.0000,E, grid, , , ,N
Point03,xy, 2504, 61,in, deg, 37, 20.0000,N, 40, 0.0000,E, grid, , , ,N
Point04,xy, 59, 1080,in, deg, 37, 10.0000,N, 39, 30.0000,E, grid, , , ,N
Point05,xy, 1282, 1081,in, deg, 37, 10.0000,N, 39, 45.0000,E, grid, , , ,N
Point06,xy, 2506, 1080,in, deg, 37, 10.0000,N, 40, 0.0000,E, grid, , , ,N
Point07,xy, 58, 2111,in, deg, 37, 0.0000,N, 39, 30.0000,E, grid, , , ,N
Point08,xy, 1284, 2108,in, deg, 37, 0.0000,N, 39, 45.0000,E, grid, , , ,N
Point09,xy, 2510, 2104,in, deg, 37, 0.0000,N, 40, 0.0000,E, grid, , , ,N
Point10,xy, , ,in, deg, , ,N, , ,W, grid, , , ,N
Point11,xy, , ,in, deg, , ,N, , ,W, grid, , , ,N
Point12,xy, , ,in, deg, , ,N, , ,W, grid, , , ,N
Point13,xy, , ,in, deg, , ,N, , ,W, grid, , , ,N
Point14,xy, , ,in, deg, , ,N, , ,W, grid, , , ,N
Point15,xy, , ,in, deg, , ,N, , ,W, grid, , , ,N
Point16,xy, , ,in, deg, , ,N, , ,W, grid, , , ,N
Point17,xy, , ,in, deg, , ,N, , ,W, grid, , , ,N
Point18,xy, , ,in, deg, , ,N, , ,W, grid, , , ,N
Point19,xy, , ,in, deg, , ,N, , ,W, grid, , , ,N
Point20,xy, , ,in, deg, , ,N, , ,W, grid, , , ,N
Point21,xy, , ,in, deg, , ,N, , ,W, grid, , , ,N
Point22,xy, , ,in, deg, , ,N, , ,W, grid, , , ,N
Point23,xy, , ,in, deg, , ,N, , ,W, grid, , , ,N
Point24,xy, , ,in, deg, , ,N, , ,W, grid, , , ,N
Point25,xy, , ,in, deg, , ,N, , ,W, grid, , , ,N
Point26,xy, , ,in, deg, , ,N, , ,W, grid, , , ,N
Point27,xy, , ,in, deg, , ,N, , ,W, grid, , , ,N
Point28,xy, , ,in, deg, , ,N, , ,W, grid, , , ,N
Point29,xy, , ,in, deg, , ,N, , ,W, grid, , , ,N
Point30,xy, , ,in, deg, , ,N, , ,W, grid, , , ,N
Projection Setup, 0.000000000, 39.000000000, 1.000000000, 500000.00, 0.00,,,,,
Map Feature = MF ; Map Comment = MC These follow if they exist
Track File = TF These follow if they exist
Moving Map Parameters = MM? These follow if they exist
MM0,Yes
MMPNUM,4
MMPXY,1,59,55
MMPXY,2,2504,61
MMPXY,3,2510,2104
MMPXY,4,58,2111
MMPLL,1, 39.500000, 37.333333
MMPLL,2, 40.000000, 37.333333
MMPLL,3, 40.000000, 37.000000
MMPLL,4, 39.500000, 37.000000
MM1B,17.027151
MOP,Map Open Position,0,0
IWH,Map Image Width/Height,2574,2173
