OziExplorer Map Data File Version 2.2
100k--j37-086.gif
100k--j37-086.gif
1 ,Map Code,
Pulkovo 1942 (2),WGS 84, 0.0000, 0.0000,WGS 84
Reserved 1
Reserved 2
Magnetic Variation,,,E
Map Projection,Transverse Mercator,PolyCal,No,AutoCalOnly,No,BSBUseWPX,No
Point01,xy, 84, 71,in, deg, 37, 40.0000,N, 36, 30.0000,E, grid, , , ,N
Point02,xy, 1300, 78,in, deg, 37, 40.0000,N, 36, 45.0000,E, grid, , , ,N
Point03,xy, 2516, 89,in, deg, 37, 40.0000,N, 37, 0.0000,E, grid, , , ,N
Point04,xy, 77, 1097,in, deg, 37, 30.0000,N, 36, 30.0000,E, grid, , , ,N
Point05,xy, 1296, 1104,in, deg, 37, 30.0000,N, 36, 45.0000,E, grid, , , ,N
Point06,xy, 2515, 1109,in, deg, 37, 30.0000,N, 37, 0.0000,E, grid, , , ,N
Point07,xy, 74, 2128,in, deg, 37, 20.0000,N, 36, 30.0000,E, grid, , , ,N
Point08,xy, 1296, 2130,in, deg, 37, 20.0000,N, 36, 45.0000,E, grid, , , ,N
Point09,xy, 2519, 2126,in, deg, 37, 20.0000,N, 37, 0.0000,E, grid, , , ,N
Point10,xy, , ,in, deg, , ,N, , ,W, grid, , , ,N
Point11,xy, , ,in, deg, , ,N, , ,W, grid, , , ,N
Point12,xy, , ,in, deg, , ,N, , ,W, grid, , , ,N
Point13,xy, , ,in, deg, , ,N, , ,W, grid, , , ,N
Point14,xy, , ,in, deg, , ,N, , ,W, grid, , , ,N
Point15,xy, , ,in, deg, , ,N, , ,W, grid, , , ,N
Point16,xy, , ,in, deg, , ,N, , ,W, grid, , , ,N
Point17,xy, , ,in, deg, , ,N, , ,W, grid, , , ,N
Point18,xy, , ,in, deg, , ,N, , ,W, grid, , , ,N
Point19,xy, , ,in, deg, , ,N, , ,W, grid, , , ,N
Point20,xy, , ,in, deg, , ,N, , ,W, grid, , , ,N
Point21,xy, , ,in, deg, , ,N, , ,W, grid, , , ,N
Point22,xy, , ,in, deg, , ,N, , ,W, grid, , , ,N
Point23,xy, , ,in, deg, , ,N, , ,W, grid, , , ,N
Point24,xy, , ,in, deg, , ,N, , ,W, grid, , , ,N
Point25,xy, , ,in, deg, , ,N, , ,W, grid, , , ,N
Point26,xy, , ,in, deg, , ,N, , ,W, grid, , , ,N
Point27,xy, , ,in, deg, , ,N, , ,W, grid, , , ,N
Point28,xy, , ,in, deg, , ,N, , ,W, grid, , , ,N
Point29,xy, , ,in, deg, , ,N, , ,W, grid, , , ,N
Point30,xy, , ,in, deg, , ,N, , ,W, grid, , , ,N
Projection Setup, 0.000000000, 39.000000000, 1.000000000, 500000.00, 0.00,,,,,
Map Feature = MF ; Map Comment = MC These follow if they exist
Track File = TF These follow if they exist
Moving Map Parameters = MM? These follow if they exist
MM0,Yes
MMPNUM,4
MMPXY,1,84,71
MMPXY,2,2516,89
MMPXY,3,2519,2126
MMPXY,4,74,2128
MMPLL,1, 36.500000, 37.666667
MMPLL,2, 37.000000, 37.666667
MMPLL,3, 37.000000, 37.333333
MMPLL,4, 36.500000, 37.333333
MM1B,16.833485
MOP,Map Open Position,0,0
IWH,Map Image Width/Height,2592,2198
