OziExplorer Map Data File Version 2.2
100k--j37-017.gif
100k--j37-017.gif
1 ,Map Code,
Pulkovo 1942 (2),WGS 84, 0.0000, 0.0000,WGS 84
Reserved 1
Reserved 2
Magnetic Variation,,,E
Map Projection,Transverse Mercator,PolyCal,No,AutoCalOnly,No,BSBUseWPX,No
Point01,xy, 72, 59,in, deg, 39, 40.0000,N, 38, 0.0000,E, grid, , , ,N
Point02,xy, 1255, 66,in, deg, 39, 40.0000,N, 38, 15.0000,E, grid, , , ,N
Point03,xy, 2438, 70,in, deg, 39, 40.0000,N, 38, 30.0000,E, grid, , , ,N
Point04,xy, 67, 1085,in, deg, 39, 30.0000,N, 38, 0.0000,E, grid, , , ,N
Point05,xy, 1252, 1087,in, deg, 39, 30.0000,N, 38, 15.0000,E, grid, , , ,N
Point06,xy, 2437, 1087,in, deg, 39, 30.0000,N, 38, 30.0000,E, grid, , , ,N
Point07,xy, 66, 2115,in, deg, 39, 20.0000,N, 38, 0.0000,E, grid, , , ,N
Point08,xy, 1254, 2116,in, deg, 39, 20.0000,N, 38, 15.0000,E, grid, , , ,N
Point09,xy, 2442, 2112,in, deg, 39, 20.0000,N, 38, 30.0000,E, grid, , , ,N
Point10,xy, , ,in, deg, , ,N, , ,W, grid, , , ,N
Point11,xy, , ,in, deg, , ,N, , ,W, grid, , , ,N
Point12,xy, , ,in, deg, , ,N, , ,W, grid, , , ,N
Point13,xy, , ,in, deg, , ,N, , ,W, grid, , , ,N
Point14,xy, , ,in, deg, , ,N, , ,W, grid, , , ,N
Point15,xy, , ,in, deg, , ,N, , ,W, grid, , , ,N
Point16,xy, , ,in, deg, , ,N, , ,W, grid, , , ,N
Point17,xy, , ,in, deg, , ,N, , ,W, grid, , , ,N
Point18,xy, , ,in, deg, , ,N, , ,W, grid, , , ,N
Point19,xy, , ,in, deg, , ,N, , ,W, grid, , , ,N
Point20,xy, , ,in, deg, , ,N, , ,W, grid, , , ,N
Point21,xy, , ,in, deg, , ,N, , ,W, grid, , , ,N
Point22,xy, , ,in, deg, , ,N, , ,W, grid, , , ,N
Point23,xy, , ,in, deg, , ,N, , ,W, grid, , , ,N
Point24,xy, , ,in, deg, , ,N, , ,W, grid, , , ,N
Point25,xy, , ,in, deg, , ,N, , ,W, grid, , , ,N
Point26,xy, , ,in, deg, , ,N, , ,W, grid, , , ,N
Point27,xy, , ,in, deg, , ,N, , ,W, grid, , , ,N
Point28,xy, , ,in, deg, , ,N, , ,W, grid, , , ,N
Point29,xy, , ,in, deg, , ,N, , ,W, grid, , , ,N
Point30,xy, , ,in, deg, , ,N, , ,W, grid, , , ,N
Projection Setup, 0.000000000, 39.000000000, 1.000000000, 500000.00, 0.00,,,,,
Map Feature = MF ; Map Comment = MC These follow if they exist
Track File = TF These follow if they exist
Moving Map Parameters = MM? These follow if they exist
MM0,Yes
MMPNUM,4
MMPXY,1,72,59
MMPXY,2,2438,70
MMPXY,3,2442,2112
MMPXY,4,66,2115
MMPLL,1, 38.000000, 39.666667
MMPLL,2, 38.500000, 39.666667
MMPLL,3, 38.500000, 39.333333
MMPLL,4, 38.000000, 39.333333
MM1B,16.980266
MOP,Map Open Position,0,0
IWH,Map Image Width/Height,2510,2179
