OziExplorer Map Data File Version 2.2
200k--j36-26.gif
200k--j36-26.gif
1 ,Map Code,
Pulkovo 1942 (2),WGS 84, 0.0000, 0.0000,WGS 84
Reserved 1
Reserved 2
Magnetic Variation,,,E
Map Projection,Transverse Mercator,PolyCal,No,AutoCalOnly,No,BSBUseWPX,No
Point01,xy, 108, 96,in, deg, 37, 20.0000,N, 31, 0.0000,E, grid, , , ,N
Point02,xy, 1834, 98,in, deg, 37, 20.0000,N, 31, 30.0000,E, grid, , , ,N
Point03,xy, 3559, 92,in, deg, 37, 20.0000,N, 32, 0.0000,E, grid, , , ,N
Point04,xy, 99, 1540,in, deg, 37, 0.0000,N, 31, 0.0000,E, grid, , , ,N
Point05,xy, 1831, 1541,in, deg, 37, 0.0000,N, 31, 30.0000,E, grid, , , ,N
Point06,xy, 3565, 1536,in, deg, 37, 0.0000,N, 32, 0.0000,E, grid, , , ,N
Point07,xy, 89, 2986,in, deg, 36, 40.0000,N, 31, 0.0000,E, grid, , , ,N
Point08,xy, 1829, 2989,in, deg, 36, 40.0000,N, 31, 30.0000,E, grid, , , ,N
Point09,xy, 3570, 2980,in, deg, 36, 40.0000,N, 32, 0.0000,E, grid, , , ,N
Point10,xy, , ,in, deg, , ,N, , ,W, grid, , , ,N
Point11,xy, , ,in, deg, , ,N, , ,W, grid, , , ,N
Point12,xy, , ,in, deg, , ,N, , ,W, grid, , , ,N
Point13,xy, , ,in, deg, , ,N, , ,W, grid, , , ,N
Point14,xy, , ,in, deg, , ,N, , ,W, grid, , , ,N
Point15,xy, , ,in, deg, , ,N, , ,W, grid, , , ,N
Point16,xy, , ,in, deg, , ,N, , ,W, grid, , , ,N
Point17,xy, , ,in, deg, , ,N, , ,W, grid, , , ,N
Point18,xy, , ,in, deg, , ,N, , ,W, grid, , , ,N
Point19,xy, , ,in, deg, , ,N, , ,W, grid, , , ,N
Point20,xy, , ,in, deg, , ,N, , ,W, grid, , , ,N
Point21,xy, , ,in, deg, , ,N, , ,W, grid, , , ,N
Point22,xy, , ,in, deg, , ,N, , ,W, grid, , , ,N
Point23,xy, , ,in, deg, , ,N, , ,W, grid, , , ,N
Point24,xy, , ,in, deg, , ,N, , ,W, grid, , , ,N
Point25,xy, , ,in, deg, , ,N, , ,W, grid, , , ,N
Point26,xy, , ,in, deg, , ,N, , ,W, grid, , , ,N
Point27,xy, , ,in, deg, , ,N, , ,W, grid, , , ,N
Point28,xy, , ,in, deg, , ,N, , ,W, grid, , , ,N
Point29,xy, , ,in, deg, , ,N, , ,W, grid, , , ,N
Point30,xy, , ,in, deg, , ,N, , ,W, grid, , , ,N
Projection Setup, 0.000000000, 33.000000000, 1.000000000, 500000.00, 0.00,,,,,
Map Feature = MF ; Map Comment = MC These follow if they exist
Track File = TF These follow if they exist
Moving Map Parameters = MM? These follow if they exist
MM0,Yes
MMPNUM,4
MMPXY,1,108,96
MMPXY,2,3559,92
MMPXY,3,3570,2980
MMPXY,4,89,2986
MMPLL,1, 31.000000, 37.333333
MMPLL,2, 32.000000, 37.333333
MMPLL,3, 32.000000, 36.666667
MMPLL,4, 31.000000, 36.666667
MM1B,23.994812
MOP,Map Open Position,0,0
IWH,Map Image Width/Height,3664,3084
