OziExplorer Map Data File Version 2.2
100k--j36-114.gif
100k--j36-114.gif
1 ,Map Code,
Pulkovo 1942 (2),WGS 84, 0.0000, 0.0000,WGS 84
Reserved 1
Reserved 2
Magnetic Variation,,,E
Map Projection,Transverse Mercator,PolyCal,No,AutoCalOnly,No,BSBUseWPX,No
Point01,xy, 86, 67,in, deg, 37, 0.0000,N, 32, 30.0000,E, grid, , , ,N
Point02,xy, 1311, 75,in, deg, 37, 0.0000,N, 32, 45.0000,E, grid, , , ,N
Point03,xy, 2538, 84,in, deg, 37, 0.0000,N, 33, 0.0000,E, grid, , , ,N
Point04,xy, 77, 1084,in, deg, 36, 50.0000,N, 32, 30.0000,E, grid, , , ,N
Point05,xy, 1306, 1093,in, deg, 36, 50.0000,N, 32, 45.0000,E, grid, , , ,N
Point06,xy, 2535, 1101,in, deg, 36, 50.0000,N, 33, 0.0000,E, grid, , , ,N
Point07,xy, 69, 2101,in, deg, 36, 40.0000,N, 32, 30.0000,E, grid, , , ,N
Point08,xy, 1300, 2112,in, deg, 36, 40.0000,N, 32, 45.0000,E, grid, , , ,N
Point09,xy, 2532, 2118,in, deg, 36, 40.0000,N, 33, 0.0000,E, grid, , , ,N
Point10,xy, , ,in, deg, , ,N, , ,W, grid, , , ,N
Point11,xy, , ,in, deg, , ,N, , ,W, grid, , , ,N
Point12,xy, , ,in, deg, , ,N, , ,W, grid, , , ,N
Point13,xy, , ,in, deg, , ,N, , ,W, grid, , , ,N
Point14,xy, , ,in, deg, , ,N, , ,W, grid, , , ,N
Point15,xy, , ,in, deg, , ,N, , ,W, grid, , , ,N
Point16,xy, , ,in, deg, , ,N, , ,W, grid, , , ,N
Point17,xy, , ,in, deg, , ,N, , ,W, grid, , , ,N
Point18,xy, , ,in, deg, , ,N, , ,W, grid, , , ,N
Point19,xy, , ,in, deg, , ,N, , ,W, grid, , , ,N
Point20,xy, , ,in, deg, , ,N, , ,W, grid, , , ,N
Point21,xy, , ,in, deg, , ,N, , ,W, grid, , , ,N
Point22,xy, , ,in, deg, , ,N, , ,W, grid, , , ,N
Point23,xy, , ,in, deg, , ,N, , ,W, grid, , , ,N
Point24,xy, , ,in, deg, , ,N, , ,W, grid, , , ,N
Point25,xy, , ,in, deg, , ,N, , ,W, grid, , , ,N
Point26,xy, , ,in, deg, , ,N, , ,W, grid, , , ,N
Point27,xy, , ,in, deg, , ,N, , ,W, grid, , , ,N
Point28,xy, , ,in, deg, , ,N, , ,W, grid, , , ,N
Point29,xy, , ,in, deg, , ,N, , ,W, grid, , , ,N
Point30,xy, , ,in, deg, , ,N, , ,W, grid, , , ,N
Projection Setup, 0.000000000, 33.000000000, 1.000000000, 500000.00, 0.00,,,,,
Map Feature = MF ; Map Comment = MC These follow if they exist
Track File = TF These follow if they exist
Moving Map Parameters = MM? These follow if they exist
MM0,Yes
MMPNUM,4
MMPXY,1,86,67
MMPXY,2,2538,84
MMPXY,3,2532,2118
MMPXY,4,69,2101
MMPLL,1, 32.500000, 37.000000
MMPLL,2, 33.000000, 37.000000
MMPLL,3, 33.000000, 36.666667
MMPLL,4, 32.500000, 36.666667
MM1B,16.910420
MOP,Map Open Position,0,0
IWH,Map Image Width/Height,2610,2188
