OziExplorer Map Data File Version 2.2
100k--j36-048.gif
100k--j36-048.gif
1 ,Map Code,
Pulkovo 1942 (2),WGS 84, 0.0000, 0.0000,WGS 84
Reserved 1
Reserved 2
Magnetic Variation,,,E
Map Projection,Transverse Mercator,PolyCal,No,AutoCalOnly,No,BSBUseWPX,No
Point01,xy, 68, 65,in, deg, 39, 0.0000,N, 35, 30.0000,E, grid, , , ,N
Point02,xy, 1263, 63,in, deg, 39, 0.0000,N, 35, 45.0000,E, grid, , , ,N
Point03,xy, 2456, 65,in, deg, 39, 0.0000,N, 36, 0.0000,E, grid, , , ,N
Point04,xy, 65, 1090,in, deg, 38, 50.0000,N, 35, 30.0000,E, grid, , , ,N
Point05,xy, 1261, 1094,in, deg, 38, 50.0000,N, 35, 45.0000,E, grid, , , ,N
Point06,xy, 2457, 1094,ex, deg, 38, 50.0000,N, 36, 0.0000,E, grid, , , ,N
Point07,xy, 61, 2116,in, deg, 38, 40.0000,N, 35, 30.0000,E, grid, , , ,N
Point08,xy, 1260, 2121,in, deg, 38, 40.0000,N, 35, 45.0000,E, grid, , , ,N
Point09,xy, 2460, 2123,in, deg, 38, 40.0000,N, 36, 0.0000,E, grid, , , ,N
Point10,xy, , ,in, deg, , ,N, , ,W, grid, , , ,N
Point11,xy, , ,in, deg, , ,N, , ,W, grid, , , ,N
Point12,xy, , ,in, deg, , ,N, , ,W, grid, , , ,N
Point13,xy, , ,in, deg, , ,N, , ,W, grid, , , ,N
Point14,xy, , ,in, deg, , ,N, , ,W, grid, , , ,N
Point15,xy, , ,in, deg, , ,N, , ,W, grid, , , ,N
Point16,xy, , ,in, deg, , ,N, , ,W, grid, , , ,N
Point17,xy, , ,in, deg, , ,N, , ,W, grid, , , ,N
Point18,xy, , ,in, deg, , ,N, , ,W, grid, , , ,N
Point19,xy, , ,in, deg, , ,N, , ,W, grid, , , ,N
Point20,xy, , ,in, deg, , ,N, , ,W, grid, , , ,N
Point21,xy, , ,in, deg, , ,N, , ,W, grid, , , ,N
Point22,xy, , ,in, deg, , ,N, , ,W, grid, , , ,N
Point23,xy, , ,in, deg, , ,N, , ,W, grid, , , ,N
Point24,xy, , ,in, deg, , ,N, , ,W, grid, , , ,N
Point25,xy, , ,in, deg, , ,N, , ,W, grid, , , ,N
Point26,xy, , ,in, deg, , ,N, , ,W, grid, , , ,N
Point27,xy, , ,in, deg, , ,N, , ,W, grid, , , ,N
Point28,xy, , ,in, deg, , ,N, , ,W, grid, , , ,N
Point29,xy, , ,in, deg, , ,N, , ,W, grid, , , ,N
Point30,xy, , ,in, deg, , ,N, , ,W, grid, , , ,N
Projection Setup, 0.000000000, 33.000000000, 1.000000000, 500000.00, 0.00,,,,,
Map Feature = MF ; Map Comment = MC These follow if they exist
Track File = TF These follow if they exist
Moving Map Parameters = MM? These follow if they exist
MM0,Yes
MMPNUM,4
MMPXY,1,68,65
MMPXY,2,2456,65
MMPXY,3,2460,2123
MMPXY,4,61,2116
MMPLL,1, 35.500000, 39.000000
MMPLL,2, 36.000000, 39.000000
MMPLL,3, 36.000000, 38.666667
MMPLL,4, 35.500000, 38.666667
MM1B,16.925892
MOP,Map Open Position,0,0
IWH,Map Image Width/Height,2529,2186
