OziExplorer Map Data File Version 2.2
100k--j36-047.gif
100k--j36-047.gif
1 ,Map Code,
Pulkovo 1942 (2),WGS 84, 0.0000, 0.0000,WGS 84
Reserved 1
Reserved 2
Magnetic Variation,,,E
Map Projection,Transverse Mercator,PolyCal,No,AutoCalOnly,No,BSBUseWPX,No
Point01,xy, 75, 88,in, deg, 39, 0.0000,N, 35, 0.0000,E, grid, , , ,N
Point02,xy, 1268, 77,in, deg, 39, 0.0000,N, 35, 15.0000,E, grid, , , ,N
Point03,xy, 2461, 69,in, deg, 39, 0.0000,N, 35, 30.0000,E, grid, , , ,N
Point04,xy, 79, 1107,in, deg, 38, 50.0000,N, 35, 0.0000,E, grid, , , ,N
Point05,xy, 1275, 1100,in, deg, 38, 50.0000,N, 35, 15.0000,E, grid, , , ,N
Point06,xy, 2472, 1090,in, deg, 38, 50.0000,N, 35, 30.0000,E, grid, , , ,N
Point07,xy, 84, 2135,in, deg, 38, 40.0000,N, 35, 0.0000,E, grid, , , ,N
Point08,xy, 1284, 2131,in, deg, 38, 40.0000,N, 35, 15.0000,E, grid, , , ,N
Point09,xy, 2483, 2121,in, deg, 38, 40.0000,N, 35, 30.0000,E, grid, , , ,N
Point10,xy, , ,in, deg, , ,N, , ,W, grid, , , ,N
Point11,xy, , ,in, deg, , ,N, , ,W, grid, , , ,N
Point12,xy, , ,in, deg, , ,N, , ,W, grid, , , ,N
Point13,xy, , ,in, deg, , ,N, , ,W, grid, , , ,N
Point14,xy, , ,in, deg, , ,N, , ,W, grid, , , ,N
Point15,xy, , ,in, deg, , ,N, , ,W, grid, , , ,N
Point16,xy, , ,in, deg, , ,N, , ,W, grid, , , ,N
Point17,xy, , ,in, deg, , ,N, , ,W, grid, , , ,N
Point18,xy, , ,in, deg, , ,N, , ,W, grid, , , ,N
Point19,xy, , ,in, deg, , ,N, , ,W, grid, , , ,N
Point20,xy, , ,in, deg, , ,N, , ,W, grid, , , ,N
Point21,xy, , ,in, deg, , ,N, , ,W, grid, , , ,N
Point22,xy, , ,in, deg, , ,N, , ,W, grid, , , ,N
Point23,xy, , ,in, deg, , ,N, , ,W, grid, , , ,N
Point24,xy, , ,in, deg, , ,N, , ,W, grid, , , ,N
Point25,xy, , ,in, deg, , ,N, , ,W, grid, , , ,N
Point26,xy, , ,in, deg, , ,N, , ,W, grid, , , ,N
Point27,xy, , ,in, deg, , ,N, , ,W, grid, , , ,N
Point28,xy, , ,in, deg, , ,N, , ,W, grid, , , ,N
Point29,xy, , ,in, deg, , ,N, , ,W, grid, , , ,N
Point30,xy, , ,in, deg, , ,N, , ,W, grid, , , ,N
Projection Setup, 0.000000000, 33.000000000, 1.000000000, 500000.00, 0.00,,,,,
Map Feature = MF ; Map Comment = MC These follow if they exist
Track File = TF These follow if they exist
Moving Map Parameters = MM? These follow if they exist
MM0,Yes
MMPNUM,4
MMPXY,1,75,88
MMPXY,2,2461,69
MMPXY,3,2483,2121
MMPXY,4,84,2135
MMPLL,1, 35.000000, 39.000000
MMPLL,2, 35.500000, 39.000000
MMPLL,3, 35.500000, 38.666667
MMPLL,4, 35.000000, 38.666667
MM1B,16.833485
MOP,Map Open Position,0,0
IWH,Map Image Width/Height,2552,2198
