OziExplorer Map Data File Version 2.2
100k--j36-034.gif
100k--j36-034.gif
1 ,Map Code,
Pulkovo 1942 (2),WGS 84, 0.0000, 0.0000,WGS 84
Reserved 1
Reserved 2
Magnetic Variation,,,E
Map Projection,Transverse Mercator,PolyCal,No,AutoCalOnly,No,BSBUseWPX,No
Point01,xy, 93, 73,in, deg, 39, 20.0000,N, 34, 30.0000,E, grid, , , ,N
Point02,xy, 1283, 80,in, deg, 39, 20.0000,N, 34, 45.0000,E, grid, , , ,N
Point03,xy, 2469, 90,in, deg, 39, 20.0000,N, 35, 0.0000,E, grid, , , ,N
Point04,xy, 85, 1099,in, deg, 39, 10.0000,N, 34, 30.0000,E, grid, , , ,N
Point05,xy, 1274, 1107,in, deg, 39, 10.0000,N, 34, 45.0000,E, grid, , , ,N
Point06,xy, 2465, 1114,in, deg, 39, 10.0000,N, 35, 0.0000,E, grid, , , ,N
Point07,xy, 77, 2126,in, deg, 39, 0.0000,N, 34, 30.0000,E, grid, , , ,N
Point08,xy, 1268, 2139,in, deg, 39, 0.0000,N, 34, 45.0000,E, grid, , , ,N
Point09,xy, 2461, 2147,in, deg, 39, 0.0000,N, 35, 0.0000,E, grid, , , ,N
Point10,xy, , ,in, deg, , ,N, , ,W, grid, , , ,N
Point11,xy, , ,in, deg, , ,N, , ,W, grid, , , ,N
Point12,xy, , ,in, deg, , ,N, , ,W, grid, , , ,N
Point13,xy, , ,in, deg, , ,N, , ,W, grid, , , ,N
Point14,xy, , ,in, deg, , ,N, , ,W, grid, , , ,N
Point15,xy, , ,in, deg, , ,N, , ,W, grid, , , ,N
Point16,xy, , ,in, deg, , ,N, , ,W, grid, , , ,N
Point17,xy, , ,in, deg, , ,N, , ,W, grid, , , ,N
Point18,xy, , ,in, deg, , ,N, , ,W, grid, , , ,N
Point19,xy, , ,in, deg, , ,N, , ,W, grid, , , ,N
Point20,xy, , ,in, deg, , ,N, , ,W, grid, , , ,N
Point21,xy, , ,in, deg, , ,N, , ,W, grid, , , ,N
Point22,xy, , ,in, deg, , ,N, , ,W, grid, , , ,N
Point23,xy, , ,in, deg, , ,N, , ,W, grid, , , ,N
Point24,xy, , ,in, deg, , ,N, , ,W, grid, , , ,N
Point25,xy, , ,in, deg, , ,N, , ,W, grid, , , ,N
Point26,xy, , ,in, deg, , ,N, , ,W, grid, , , ,N
Point27,xy, , ,in, deg, , ,N, , ,W, grid, , , ,N
Point28,xy, , ,in, deg, , ,N, , ,W, grid, , , ,N
Point29,xy, , ,in, deg, , ,N, , ,W, grid, , , ,N
Point30,xy, , ,in, deg, , ,N, , ,W, grid, , , ,N
Projection Setup, 0.000000000, 33.000000000, 1.000000000, 500000.00, 0.00,,,,,
Map Feature = MF ; Map Comment = MC These follow if they exist
Track File = TF These follow if they exist
Moving Map Parameters = MM? These follow if they exist
MM0,Yes
MMPNUM,4
MMPXY,1,93,73
MMPXY,2,2469,90
MMPXY,3,2461,2147
MMPXY,4,77,2126
MMPLL,1, 34.500000, 39.333333
MMPLL,2, 35.000000, 39.333333
MMPLL,3, 35.000000, 39.000000
MMPLL,4, 34.500000, 39.000000
MM1B,16.681695
MOP,Map Open Position,0,0
IWH,Map Image Width/Height,2542,2218
