OziExplorer Map Data File Version 2.2
100k--j36-013.gif
100k--j36-013.gif
1 ,Map Code,
Pulkovo 1942 (2),WGS 84, 0.0000, 0.0000,WGS 84
Reserved 1
Reserved 2
Magnetic Variation,,,E
Map Projection,Transverse Mercator,PolyCal,No,AutoCalOnly,No,BSBUseWPX,No
Point01,xy, 98, 66,in, deg, 39, 40.0000,N, 30, 0.0000,E, grid, , , ,N
Point02,xy, 1281, 76,in, deg, 39, 40.0000,N, 30, 15.0000,E, grid, , , ,N
Point03,xy, 2463, 92,in, deg, 39, 40.0000,N, 30, 30.0000,E, grid, , , ,N
Point04,xy, 85, 1095,in, deg, 39, 30.0000,N, 30, 0.0000,E, grid, , , ,N
Point05,xy, 1270, 1107,in, deg, 39, 30.0000,N, 30, 15.0000,E, grid, , , ,N
Point06,xy, 2456, 1117,in, deg, 39, 30.0000,N, 30, 30.0000,E, grid, , , ,N
Point07,xy, 73, 2127,in, deg, 39, 20.0000,N, 30, 0.0000,E, grid, , , ,N
Point08,xy, 1261, 2140,in, deg, 39, 20.0000,N, 30, 15.0000,E, grid, , , ,N
Point09,xy, 2450, 2151,in, deg, 39, 20.0000,N, 30, 30.0000,E, grid, , , ,N
Point10,xy, , ,in, deg, , ,N, , ,W, grid, , , ,N
Point11,xy, , ,in, deg, , ,N, , ,W, grid, , , ,N
Point12,xy, , ,in, deg, , ,N, , ,W, grid, , , ,N
Point13,xy, , ,in, deg, , ,N, , ,W, grid, , , ,N
Point14,xy, , ,in, deg, , ,N, , ,W, grid, , , ,N
Point15,xy, , ,in, deg, , ,N, , ,W, grid, , , ,N
Point16,xy, , ,in, deg, , ,N, , ,W, grid, , , ,N
Point17,xy, , ,in, deg, , ,N, , ,W, grid, , , ,N
Point18,xy, , ,in, deg, , ,N, , ,W, grid, , , ,N
Point19,xy, , ,in, deg, , ,N, , ,W, grid, , , ,N
Point20,xy, , ,in, deg, , ,N, , ,W, grid, , , ,N
Point21,xy, , ,in, deg, , ,N, , ,W, grid, , , ,N
Point22,xy, , ,in, deg, , ,N, , ,W, grid, , , ,N
Point23,xy, , ,in, deg, , ,N, , ,W, grid, , , ,N
Point24,xy, , ,in, deg, , ,N, , ,W, grid, , , ,N
Point25,xy, , ,in, deg, , ,N, , ,W, grid, , , ,N
Point26,xy, , ,in, deg, , ,N, , ,W, grid, , , ,N
Point27,xy, , ,in, deg, , ,N, , ,W, grid, , , ,N
Point28,xy, , ,in, deg, , ,N, , ,W, grid, , , ,N
Point29,xy, , ,in, deg, , ,N, , ,W, grid, , , ,N
Point30,xy, , ,in, deg, , ,N, , ,W, grid, , , ,N
Projection Setup, 0.000000000, 33.000000000, 1.000000000, 500000.00, 0.00,,,,,
Map Feature = MF ; Map Comment = MC These follow if they exist
Track File = TF These follow if they exist
Moving Map Parameters = MM? These follow if they exist
MM0,Yes
MMPNUM,4
MMPXY,1,98,66
MMPXY,2,2463,92
MMPXY,3,2450,2151
MMPXY,4,73,2127
MMPLL,1, 30.000000, 39.666667
MMPLL,2, 30.500000, 39.666667
MMPLL,3, 30.500000, 39.333333
MMPLL,4, 30.000000, 39.333333
MM1B,16.681695
MOP,Map Open Position,0,0
IWH,Map Image Width/Height,2532,2218
