OziExplorer Map Data File Version 2.2
200k--j35-23.gif
200k--j35-23.gif
1 ,Map Code,
Pulkovo 1942 (2),WGS 84, 0.0000, 0.0000,WGS 84
Reserved 1
Reserved 2
Magnetic Variation,,,E
Map Projection,Transverse Mercator,PolyCal,No,AutoCalOnly,No,BSBUseWPX,No
Point01,xy, 62, 72,in, deg, 38, 0.0000,N, 28, 0.0000,E, grid, , , ,N
Point02,xy, 1773, 67,in, deg, 38, 0.0000,N, 28, 30.0000,E, grid, , , ,N
Point03,xy, 3481, 52,in, deg, 38, 0.0000,N, 29, 0.0000,E, grid, , , ,N
Point04,xy, 59, 1519,in, deg, 37, 40.0000,N, 28, 0.0000,E, grid, , , ,N
Point05,xy, 1779, 1515,in, deg, 37, 40.0000,N, 28, 30.0000,E, grid, , , ,N
Point06,xy, 3495, 1499,in, deg, 37, 40.0000,N, 29, 0.0000,E, grid, , , ,N
Point07,xy, 59, 2964,in, deg, 37, 20.0000,N, 28, 0.0000,E, grid, , , ,N
Point08,xy, 1786, 2958,in, deg, 37, 20.0000,N, 28, 30.0000,E, grid, , , ,N
Point09,xy, 3508, 2942,in, deg, 37, 20.0000,N, 29, 0.0000,E, grid, , , ,N
Point10,xy, , ,in, deg, , ,N, , ,W, grid, , , ,N
Point11,xy, , ,in, deg, , ,N, , ,W, grid, , , ,N
Point12,xy, , ,in, deg, , ,N, , ,W, grid, , , ,N
Point13,xy, , ,in, deg, , ,N, , ,W, grid, , , ,N
Point14,xy, , ,in, deg, , ,N, , ,W, grid, , , ,N
Point15,xy, , ,in, deg, , ,N, , ,W, grid, , , ,N
Point16,xy, , ,in, deg, , ,N, , ,W, grid, , , ,N
Point17,xy, , ,in, deg, , ,N, , ,W, grid, , , ,N
Point18,xy, , ,in, deg, , ,N, , ,W, grid, , , ,N
Point19,xy, , ,in, deg, , ,N, , ,W, grid, , , ,N
Point20,xy, , ,in, deg, , ,N, , ,W, grid, , , ,N
Point21,xy, , ,in, deg, , ,N, , ,W, grid, , , ,N
Point22,xy, , ,in, deg, , ,N, , ,W, grid, , , ,N
Point23,xy, , ,in, deg, , ,N, , ,W, grid, , , ,N
Point24,xy, , ,in, deg, , ,N, , ,W, grid, , , ,N
Point25,xy, , ,in, deg, , ,N, , ,W, grid, , , ,N
Point26,xy, , ,in, deg, , ,N, , ,W, grid, , , ,N
Point27,xy, , ,in, deg, , ,N, , ,W, grid, , , ,N
Point28,xy, , ,in, deg, , ,N, , ,W, grid, , , ,N
Point29,xy, , ,in, deg, , ,N, , ,W, grid, , , ,N
Point30,xy, , ,in, deg, , ,N, , ,W, grid, , , ,N
Projection Setup, 0.000000000, 27.000000000, 1.000000000, 500000.00, 0.00,,,,,
Map Feature = MF ; Map Comment = MC These follow if they exist
Track File = TF These follow if they exist
Moving Map Parameters = MM? These follow if they exist
MM0,Yes
MMPNUM,4
MMPXY,1,62,72
MMPXY,2,3481,52
MMPXY,3,3508,2942
MMPXY,4,59,2964
MMPLL,1, 28.000000, 38.000000
MMPLL,2, 29.000000, 38.000000
MMPLL,3, 29.000000, 37.333333
MMPLL,4, 28.000000, 37.333333
MM1B,24.478994
MOP,Map Open Position,0,0
IWH,Map Image Width/Height,3557,3023
