OziExplorer Map Data File Version 2.2
200k--j35-14.gif
200k--j35-14.gif
1 ,Map Code,
Pulkovo 1942 (2),WGS 84, 0.0000, 0.0000,WGS 84
Reserved 1
Reserved 2
Magnetic Variation,,,E
Map Projection,Transverse Mercator,PolyCal,No,AutoCalOnly,No,BSBUseWPX,No
Point01,xy, 70, 75,in, deg, 38, 40.0000,N, 25, 0.0000,E, grid, , , ,N
Point02,xy, 1766, 94,in, deg, 38, 40.0000,N, 25, 30.0000,E, grid, , , ,N
Point03,xy, 3461, 103,in, deg, 38, 40.0000,N, 26, 0.0000,E, grid, , , ,N
Point04,xy, 49, 1521,in, deg, 38, 20.0000,N, 25, 0.0000,E, grid, , , ,N
Point05,xy, 1753, 1538,in, deg, 38, 20.0000,N, 25, 30.0000,E, grid, , , ,N
Point06,xy, 3456, 1547,in, deg, 38, 20.0000,N, 26, 0.0000,E, grid, , , ,N
Point07,xy, 28, 2965,in, deg, 38, 0.0000,N, 25, 0.0000,E, grid, , , ,N
Point08,xy, 1740, 2984,in, deg, 38, 0.0000,N, 25, 30.0000,E, grid, , , ,N
Point09,xy, 3451, 2992,in, deg, 38, 0.0000,N, 26, 0.0000,E, grid, , , ,N
Point10,xy, , ,in, deg, , ,N, , ,W, grid, , , ,N
Point11,xy, , ,in, deg, , ,N, , ,W, grid, , , ,N
Point12,xy, , ,in, deg, , ,N, , ,W, grid, , , ,N
Point13,xy, , ,in, deg, , ,N, , ,W, grid, , , ,N
Point14,xy, , ,in, deg, , ,N, , ,W, grid, , , ,N
Point15,xy, , ,in, deg, , ,N, , ,W, grid, , , ,N
Point16,xy, , ,in, deg, , ,N, , ,W, grid, , , ,N
Point17,xy, , ,in, deg, , ,N, , ,W, grid, , , ,N
Point18,xy, , ,in, deg, , ,N, , ,W, grid, , , ,N
Point19,xy, , ,in, deg, , ,N, , ,W, grid, , , ,N
Point20,xy, , ,in, deg, , ,N, , ,W, grid, , , ,N
Point21,xy, , ,in, deg, , ,N, , ,W, grid, , , ,N
Point22,xy, , ,in, deg, , ,N, , ,W, grid, , , ,N
Point23,xy, , ,in, deg, , ,N, , ,W, grid, , , ,N
Point24,xy, , ,in, deg, , ,N, , ,W, grid, , , ,N
Point25,xy, , ,in, deg, , ,N, , ,W, grid, , , ,N
Point26,xy, , ,in, deg, , ,N, , ,W, grid, , , ,N
Point27,xy, , ,in, deg, , ,N, , ,W, grid, , , ,N
Point28,xy, , ,in, deg, , ,N, , ,W, grid, , , ,N
Point29,xy, , ,in, deg, , ,N, , ,W, grid, , , ,N
Point30,xy, , ,in, deg, , ,N, , ,W, grid, , , ,N
Projection Setup, 0.000000000, 27.000000000, 1.000000000, 500000.00, 0.00,,,,,
Map Feature = MF ; Map Comment = MC These follow if they exist
Track File = TF These follow if they exist
Moving Map Parameters = MM? These follow if they exist
MM0,Yes
MMPNUM,4
MMPXY,1,70,75
MMPXY,2,3461,103
MMPXY,3,3451,2992
MMPXY,4,28,2965
MMPLL,1, 25.000000, 38.666667
MMPLL,2, 26.000000, 38.666667
MMPLL,3, 26.000000, 38.000000
MMPLL,4, 25.000000, 38.000000
MM1B,24.112089
MOP,Map Open Position,0,0
IWH,Map Image Width/Height,3531,3069
