OziExplorer Map Data File Version 2.2
100k--j35-080.gif
100k--j35-080.gif
1 ,Map Code,
Pulkovo 1942 (2),WGS 84, 0.0000, 0.0000,WGS 84
Reserved 1
Reserved 2
Magnetic Variation,,,E
Map Projection,Transverse Mercator,PolyCal,No,AutoCalOnly,No,BSBUseWPX,No
Point01,xy, 85, 63,in, deg, 38, 0.0000,N, 27, 30.0000,E, grid, , , ,N
Point02,xy, 1294, 75,in, deg, 38, 0.0000,N, 27, 45.0000,E, grid, , , ,N
Point03,xy, 2504, 86,in, deg, 38, 0.0000,N, 28, 0.0000,E, grid, , , ,N
Point04,xy, 73, 1078,in, deg, 37, 50.0000,N, 27, 30.0000,E, grid, , , ,N
Point05,xy, 1286, 1092,in, deg, 37, 50.0000,N, 27, 45.0000,E, grid, , , ,N
Point06,xy, 2498, 1101,in, deg, 37, 50.0000,N, 28, 0.0000,E, grid, , , ,N
Point07,xy, 62, 2097,in, deg, 37, 40.0000,N, 27, 30.0000,E, grid, , , ,N
Point08,xy, 1277, 2112,in, deg, 37, 40.0000,N, 27, 45.0000,E, grid, , , ,N
Point09,xy, 2493, 2119,in, deg, 37, 40.0000,N, 28, 0.0000,E, grid, , , ,N
Point10,xy, , ,in, deg, , ,N, , ,W, grid, , , ,N
Point11,xy, , ,in, deg, , ,N, , ,W, grid, , , ,N
Point12,xy, , ,in, deg, , ,N, , ,W, grid, , , ,N
Point13,xy, , ,in, deg, , ,N, , ,W, grid, , , ,N
Point14,xy, , ,in, deg, , ,N, , ,W, grid, , , ,N
Point15,xy, , ,in, deg, , ,N, , ,W, grid, , , ,N
Point16,xy, , ,in, deg, , ,N, , ,W, grid, , , ,N
Point17,xy, , ,in, deg, , ,N, , ,W, grid, , , ,N
Point18,xy, , ,in, deg, , ,N, , ,W, grid, , , ,N
Point19,xy, , ,in, deg, , ,N, , ,W, grid, , , ,N
Point20,xy, , ,in, deg, , ,N, , ,W, grid, , , ,N
Point21,xy, , ,in, deg, , ,N, , ,W, grid, , , ,N
Point22,xy, , ,in, deg, , ,N, , ,W, grid, , , ,N
Point23,xy, , ,in, deg, , ,N, , ,W, grid, , , ,N
Point24,xy, , ,in, deg, , ,N, , ,W, grid, , , ,N
Point25,xy, , ,in, deg, , ,N, , ,W, grid, , , ,N
Point26,xy, , ,in, deg, , ,N, , ,W, grid, , , ,N
Point27,xy, , ,in, deg, , ,N, , ,W, grid, , , ,N
Point28,xy, , ,in, deg, , ,N, , ,W, grid, , , ,N
Point29,xy, , ,in, deg, , ,N, , ,W, grid, , , ,N
Point30,xy, , ,in, deg, , ,N, , ,W, grid, , , ,N
Projection Setup, 0.000000000, 27.000000000, 1.000000000, 500000.00, 0.00,,,,,
Map Feature = MF ; Map Comment = MC These follow if they exist
Track File = TF These follow if they exist
Moving Map Parameters = MM? These follow if they exist
MM0,Yes
MMPNUM,4
MMPXY,1,85,63
MMPXY,2,2504,86
MMPXY,3,2493,2119
MMPXY,4,62,2097
MMPLL,1, 27.500000, 38.000000
MMPLL,2, 28.000000, 38.000000
MMPLL,3, 28.000000, 37.666667
MMPLL,4, 27.500000, 37.666667
MM1B,16.910420
MOP,Map Open Position,0,0
IWH,Map Image Width/Height,2570,2188
