OziExplorer Map Data File Version 2.2
100k--j35-069.gif
100k--j35-069.gif
1 ,Map Code,
Pulkovo 1942 (2),WGS 84, 0.0000, 0.0000,WGS 84
Reserved 1
Reserved 2
Magnetic Variation,,,E
Map Projection,Transverse Mercator,PolyCal,No,AutoCalOnly,No,BSBUseWPX,No
Point01,xy, 74, 75,in, deg, 38, 20.0000,N, 28, 0.0000,E, grid, , , ,N
Point02,xy, 1276, 71,in, deg, 38, 20.0000,N, 28, 15.0000,E, grid, , , ,N
Point03,xy, 2483, 73,in, deg, 38, 20.0000,N, 28, 30.0000,E, grid, , , ,N
Point04,xy, 71, 1093,in, deg, 38, 10.0000,N, 28, 0.0000,E, grid, , , ,N
Point05,xy, 1279, 1098,in, deg, 38, 10.0000,N, 28, 15.0000,E, grid, , , ,N
Point06,xy, 2485, 1099,in, deg, 38, 10.0000,N, 28, 30.0000,E, grid, , , ,N
Point07,xy, 73, 2115,in, deg, 38, 0.0000,N, 28, 0.0000,E, grid, , , ,N
Point08,xy, 1279, 2115,in, deg, 38, 0.0000,N, 28, 15.0000,E, grid, , , ,N
Point09,xy, 2490, 2109,in, deg, 38, 0.0000,N, 28, 30.0000,E, grid, , , ,N
Point10,xy, , ,in, deg, , ,N, , ,W, grid, , , ,N
Point11,xy, , ,in, deg, , ,N, , ,W, grid, , , ,N
Point12,xy, , ,in, deg, , ,N, , ,W, grid, , , ,N
Point13,xy, , ,in, deg, , ,N, , ,W, grid, , , ,N
Point14,xy, , ,in, deg, , ,N, , ,W, grid, , , ,N
Point15,xy, , ,in, deg, , ,N, , ,W, grid, , , ,N
Point16,xy, , ,in, deg, , ,N, , ,W, grid, , , ,N
Point17,xy, , ,in, deg, , ,N, , ,W, grid, , , ,N
Point18,xy, , ,in, deg, , ,N, , ,W, grid, , , ,N
Point19,xy, , ,in, deg, , ,N, , ,W, grid, , , ,N
Point20,xy, , ,in, deg, , ,N, , ,W, grid, , , ,N
Point21,xy, , ,in, deg, , ,N, , ,W, grid, , , ,N
Point22,xy, , ,in, deg, , ,N, , ,W, grid, , , ,N
Point23,xy, , ,in, deg, , ,N, , ,W, grid, , , ,N
Point24,xy, , ,in, deg, , ,N, , ,W, grid, , , ,N
Point25,xy, , ,in, deg, , ,N, , ,W, grid, , , ,N
Point26,xy, , ,in, deg, , ,N, , ,W, grid, , , ,N
Point27,xy, , ,in, deg, , ,N, , ,W, grid, , , ,N
Point28,xy, , ,in, deg, , ,N, , ,W, grid, , , ,N
Point29,xy, , ,in, deg, , ,N, , ,W, grid, , , ,N
Point30,xy, , ,in, deg, , ,N, , ,W, grid, , , ,N
Projection Setup, 0.000000000, 27.000000000, 1.000000000, 500000.00, 0.00,,,,,
Map Feature = MF ; Map Comment = MC These follow if they exist
Track File = TF These follow if they exist
Moving Map Parameters = MM? These follow if they exist
MM0,Yes
MMPNUM,4
MMPXY,1,74,75
MMPXY,2,2483,73
MMPXY,3,2490,2109
MMPXY,4,73,2115
MMPLL,1, 28.000000, 38.333333
MMPLL,2, 28.500000, 38.333333
MMPLL,3, 28.500000, 38.000000
MMPLL,4, 28.000000, 38.000000
MM1B,16.910420
MOP,Map Open Position,0,0
IWH,Map Image Width/Height,2562,2188
