OziExplorer Map Data File Version 2.2
100k--j35-006.gif
100k--j35-006.gif
1 ,Map Code,
Pulkovo 1942 (2),WGS 84, 0.0000, 0.0000,WGS 84
Reserved 1
Reserved 2
Magnetic Variation,,,E
Map Projection,Transverse Mercator,PolyCal,No,AutoCalOnly,No,BSBUseWPX,No
Point01,xy, 63, 63,in, deg, 40, 0.0000,N, 26, 30.0000,E, grid, , , ,N
Point02,xy, 1239, 62,in, deg, 40, 0.0000,N, 26, 45.0000,E, grid, , , ,N
Point03,xy, 2415, 62,in, deg, 40, 0.0000,N, 27, 0.0000,E, grid, , , ,N
Point04,xy, 60, 1080,in, deg, 39, 50.0000,N, 26, 30.0000,E, grid, , , ,N
Point05,xy, 1238, 1079,in, deg, 39, 50.0000,N, 26, 45.0000,E, grid, , , ,N
Point06,xy, 2417, 1079,in, deg, 39, 50.0000,N, 27, 0.0000,E, grid, , , ,N
Point07,xy, 56, 2103,in, deg, 39, 40.0000,N, 26, 30.0000,E, grid, , , ,N
Point08,xy, 1239, 2104,in, deg, 39, 40.0000,N, 26, 45.0000,E, grid, , , ,N
Point09,xy, 2421, 2102,in, deg, 39, 40.0000,N, 27, 0.0000,E, grid, , , ,N
Point10,xy, , ,in, deg, , ,N, , ,W, grid, , , ,N
Point11,xy, , ,in, deg, , ,N, , ,W, grid, , , ,N
Point12,xy, , ,in, deg, , ,N, , ,W, grid, , , ,N
Point13,xy, , ,in, deg, , ,N, , ,W, grid, , , ,N
Point14,xy, , ,in, deg, , ,N, , ,W, grid, , , ,N
Point15,xy, , ,in, deg, , ,N, , ,W, grid, , , ,N
Point16,xy, , ,in, deg, , ,N, , ,W, grid, , , ,N
Point17,xy, , ,in, deg, , ,N, , ,W, grid, , , ,N
Point18,xy, , ,in, deg, , ,N, , ,W, grid, , , ,N
Point19,xy, , ,in, deg, , ,N, , ,W, grid, , , ,N
Point20,xy, , ,in, deg, , ,N, , ,W, grid, , , ,N
Point21,xy, , ,in, deg, , ,N, , ,W, grid, , , ,N
Point22,xy, , ,in, deg, , ,N, , ,W, grid, , , ,N
Point23,xy, , ,in, deg, , ,N, , ,W, grid, , , ,N
Point24,xy, , ,in, deg, , ,N, , ,W, grid, , , ,N
Point25,xy, , ,in, deg, , ,N, , ,W, grid, , , ,N
Point26,xy, , ,in, deg, , ,N, , ,W, grid, , , ,N
Point27,xy, , ,in, deg, , ,N, , ,W, grid, , , ,N
Point28,xy, , ,in, deg, , ,N, , ,W, grid, , , ,N
Point29,xy, , ,in, deg, , ,N, , ,W, grid, , , ,N
Point30,xy, , ,in, deg, , ,N, , ,W, grid, , , ,N
Projection Setup, 0.000000000, 27.000000000, 1.000000000, 500000.00, 0.00,,,,,
Map Feature = MF ; Map Comment = MC These follow if they exist
Track File = TF These follow if they exist
Moving Map Parameters = MM? These follow if they exist
MM0,Yes
MMPNUM,4
MMPXY,1,63,63
MMPXY,2,2415,62
MMPXY,3,2421,2102
MMPXY,4,56,2103
MMPLL,1, 26.500000, 40.000000
MMPLL,2, 27.000000, 40.000000
MMPLL,3, 27.000000, 39.666667
MMPLL,4, 26.500000, 39.666667
MM1B,17.090069
MOP,Map Open Position,0,0
IWH,Map Image Width/Height,2486,2165
