OziExplorer Map Data File Version 2.2
500k--i49-1.gif
500k--i49-1.gif
1 ,Map Code,
Pulkovo 1942 (2),WGS 84, 0.0000, 0.0000,WGS 84
Reserved 1
Reserved 2
Magnetic Variation,,,E
Map Projection,Transverse Mercator,PolyCal,No,AutoCalOnly,No,BSBUseWPX,No
Point01,xy, 109, 83,in, deg, 36, 0.0000,N, 108, 0.0000,E, grid, , , ,N
Point02,xy, 2223, 96,in, deg, 36, 0.0000,N, 109, 30.0000,E, grid, , , ,N
Point03,xy, 4336, 76,in, deg, 36, 0.0000,N, 111, 0.0000,E, grid, , , ,N
Point04,xy, 89, 1829,in, deg, 35, 0.0000,N, 108, 0.0000,E, grid, , , ,N
Point05,xy, 2228, 1840,in, deg, 35, 0.0000,N, 109, 30.0000,E, grid, , , ,N
Point06,xy, 4367, 1819,in, deg, 35, 0.0000,N, 111, 0.0000,E, grid, , , ,N
Point07,xy, 66, 3571,in, deg, 34, 0.0000,N, 108, 0.0000,E, grid, , , ,N
Point08,xy, 2233, 3583,in, deg, 34, 0.0000,N, 109, 30.0000,E, grid, , , ,N
Point09,xy, 4399, 3563,in, deg, 34, 0.0000,N, 111, 0.0000,E, grid, , , ,N
Point10,xy, , ,in, deg, , ,N, , ,W, grid, , , ,N
Point11,xy, , ,in, deg, , ,N, , ,W, grid, , , ,N
Point12,xy, , ,in, deg, , ,N, , ,W, grid, , , ,N
Point13,xy, , ,in, deg, , ,N, , ,W, grid, , , ,N
Point14,xy, , ,in, deg, , ,N, , ,W, grid, , , ,N
Point15,xy, , ,in, deg, , ,N, , ,W, grid, , , ,N
Point16,xy, , ,in, deg, , ,N, , ,W, grid, , , ,N
Point17,xy, , ,in, deg, , ,N, , ,W, grid, , , ,N
Point18,xy, , ,in, deg, , ,N, , ,W, grid, , , ,N
Point19,xy, , ,in, deg, , ,N, , ,W, grid, , , ,N
Point20,xy, , ,in, deg, , ,N, , ,W, grid, , , ,N
Point21,xy, , ,in, deg, , ,N, , ,W, grid, , , ,N
Point22,xy, , ,in, deg, , ,N, , ,W, grid, , , ,N
Point23,xy, , ,in, deg, , ,N, , ,W, grid, , , ,N
Point24,xy, , ,in, deg, , ,N, , ,W, grid, , , ,N
Point25,xy, , ,in, deg, , ,N, , ,W, grid, , , ,N
Point26,xy, , ,in, deg, , ,N, , ,W, grid, , , ,N
Point27,xy, , ,in, deg, , ,N, , ,W, grid, , , ,N
Point28,xy, , ,in, deg, , ,N, , ,W, grid, , , ,N
Point29,xy, , ,in, deg, , ,N, , ,W, grid, , , ,N
Point30,xy, , ,in, deg, , ,N, , ,W, grid, , , ,N
Projection Setup, 0.000000000, 111.000000000, 1.000000000, 500000.00, 0.00,,,,,
Map Feature = MF ; Map Comment = MC These follow if they exist
Track File = TF These follow if they exist
Moving Map Parameters = MM? These follow if they exist
MM0,Yes
MMPNUM,4
MMPXY,1,109,83
MMPXY,2,4336,76
MMPXY,3,4399,3563
MMPXY,4,66,3571
MMPLL,1, 108.000000, 36.000000
MMPLL,2, 111.000000, 36.000000
MMPLL,3, 111.000000, 34.000000
MMPLL,4, 108.000000, 34.000000
MM1B,60.805259
MOP,Map Open Position,0,0
IWH,Map Image Width/Height,4462,3651
