OziExplorer Map Data File Version 2.2
200k--i49-27.gif
200k--i49-27.gif
1 ,Map Code,
Pulkovo 1942 (2),WGS 84, 0.0000, 0.0000,WGS 84
Reserved 1
Reserved 2
Magnetic Variation,,,E
Map Projection,Transverse Mercator,PolyCal,No,AutoCalOnly,No,BSBUseWPX,No
Point01,xy, 104, 92,in, deg, 33, 20.0000,N, 110, 0.0000,E, grid, , , ,N
Point02,xy, 1944, 96,in, deg, 33, 20.0000,N, 110, 30.0000,E, grid, , , ,N
Point03,xy, 3788, 86,in, deg, 33, 20.0000,N, 111, 0.0000,E, grid, , , ,N
Point04,xy, 98, 1550,in, deg, 33, 0.0000,N, 110, 0.0000,E, grid, , , ,N
Point05,xy, 1948, 1553,in, deg, 33, 0.0000,N, 110, 30.0000,E, grid, , , ,N
Point06,xy, 3798, 1546,in, deg, 33, 0.0000,N, 111, 0.0000,E, grid, , , ,N
Point07,xy, 94, 3008,in, deg, 32, 40.0000,N, 110, 0.0000,E, grid, , , ,N
Point08,xy, 1950, 3010,in, deg, 32, 40.0000,N, 110, 30.0000,E, grid, , , ,N
Point09,xy, 3806, 3002,in, deg, 32, 40.0000,N, 111, 0.0000,E, grid, , , ,N
Point10,xy, , ,in, deg, , ,N, , ,W, grid, , , ,N
Point11,xy, , ,in, deg, , ,N, , ,W, grid, , , ,N
Point12,xy, , ,in, deg, , ,N, , ,W, grid, , , ,N
Point13,xy, , ,in, deg, , ,N, , ,W, grid, , , ,N
Point14,xy, , ,in, deg, , ,N, , ,W, grid, , , ,N
Point15,xy, , ,in, deg, , ,N, , ,W, grid, , , ,N
Point16,xy, , ,in, deg, , ,N, , ,W, grid, , , ,N
Point17,xy, , ,in, deg, , ,N, , ,W, grid, , , ,N
Point18,xy, , ,in, deg, , ,N, , ,W, grid, , , ,N
Point19,xy, , ,in, deg, , ,N, , ,W, grid, , , ,N
Point20,xy, , ,in, deg, , ,N, , ,W, grid, , , ,N
Point21,xy, , ,in, deg, , ,N, , ,W, grid, , , ,N
Point22,xy, , ,in, deg, , ,N, , ,W, grid, , , ,N
Point23,xy, , ,in, deg, , ,N, , ,W, grid, , , ,N
Point24,xy, , ,in, deg, , ,N, , ,W, grid, , , ,N
Point25,xy, , ,in, deg, , ,N, , ,W, grid, , , ,N
Point26,xy, , ,in, deg, , ,N, , ,W, grid, , , ,N
Point27,xy, , ,in, deg, , ,N, , ,W, grid, , , ,N
Point28,xy, , ,in, deg, , ,N, , ,W, grid, , , ,N
Point29,xy, , ,in, deg, , ,N, , ,W, grid, , , ,N
Point30,xy, , ,in, deg, , ,N, , ,W, grid, , , ,N
Projection Setup, 0.000000000, 111.000000000, 1.000000000, 500000.00, 0.00,,,,,
Map Feature = MF ; Map Comment = MC These follow if they exist
Track File = TF These follow if they exist
Moving Map Parameters = MM? These follow if they exist
MM0,Yes
MMPNUM,4
MMPXY,1,125,99
MMPXY,2,3770,99
MMPXY,3,3770,2995
MMPXY,4,125,2995
MMPLL,1, 110.005957, 33.331899
MMPLL,2, 110.995148, 33.330728
MMPLL,3, 110.990214, 32.668472
MMPLL,4, 110.008386, 32.669703
MM1B,25.257055
MOP,Map Open Position,0,0
IWH,Map Image Width/Height,3895,3094
