OziExplorer Map Data File Version 2.2
200k--i49-26.gif
200k--i49-26.gif
1 ,Map Code,
Pulkovo 1942 (2),WGS 84, 0.0000, 0.0000,WGS 84
Reserved 1
Reserved 2
Magnetic Variation,,,E
Map Projection,Transverse Mercator,PolyCal,No,AutoCalOnly,No,BSBUseWPX,No
Point01,xy, 106, 85,in, deg, 33, 20.0000,N, 109, 0.0000,E, grid, , , ,N
Point02,xy, 1946, 90,in, deg, 33, 20.0000,N, 109, 30.0000,E, grid, , , ,N
Point03,xy, 3790, 89,in, deg, 33, 20.0000,N, 110, 0.0000,E, grid, , , ,N
Point04,xy, 97, 1541,in, deg, 33, 0.0000,N, 109, 0.0000,E, grid, , , ,N
Point05,xy, 1944, 1550,in, deg, 33, 0.0000,N, 109, 30.0000,E, grid, , , ,N
Point06,xy, 3796, 1548,in, deg, 33, 0.0000,N, 110, 0.0000,E, grid, , , ,N
Point07,xy, 89, 3000,in, deg, 32, 40.0000,N, 109, 0.0000,E, grid, , , ,N
Point08,xy, 1944, 3007,in, deg, 32, 40.0000,N, 109, 30.0000,E, grid, , , ,N
Point09,xy, 3800, 3002,in, deg, 32, 40.0000,N, 110, 0.0000,E, grid, , , ,N
Point10,xy, , ,in, deg, , ,N, , ,W, grid, , , ,N
Point11,xy, , ,in, deg, , ,N, , ,W, grid, , , ,N
Point12,xy, , ,in, deg, , ,N, , ,W, grid, , , ,N
Point13,xy, , ,in, deg, , ,N, , ,W, grid, , , ,N
Point14,xy, , ,in, deg, , ,N, , ,W, grid, , , ,N
Point15,xy, , ,in, deg, , ,N, , ,W, grid, , , ,N
Point16,xy, , ,in, deg, , ,N, , ,W, grid, , , ,N
Point17,xy, , ,in, deg, , ,N, , ,W, grid, , , ,N
Point18,xy, , ,in, deg, , ,N, , ,W, grid, , , ,N
Point19,xy, , ,in, deg, , ,N, , ,W, grid, , , ,N
Point20,xy, , ,in, deg, , ,N, , ,W, grid, , , ,N
Point21,xy, , ,in, deg, , ,N, , ,W, grid, , , ,N
Point22,xy, , ,in, deg, , ,N, , ,W, grid, , , ,N
Point23,xy, , ,in, deg, , ,N, , ,W, grid, , , ,N
Point24,xy, , ,in, deg, , ,N, , ,W, grid, , , ,N
Point25,xy, , ,in, deg, , ,N, , ,W, grid, , , ,N
Point26,xy, , ,in, deg, , ,N, , ,W, grid, , , ,N
Point27,xy, , ,in, deg, , ,N, , ,W, grid, , , ,N
Point28,xy, , ,in, deg, , ,N, , ,W, grid, , , ,N
Point29,xy, , ,in, deg, , ,N, , ,W, grid, , , ,N
Point30,xy, , ,in, deg, , ,N, , ,W, grid, , , ,N
Projection Setup, 0.000000000, 111.000000000, 1.000000000, 500000.00, 0.00,,,,,
Map Feature = MF ; Map Comment = MC These follow if they exist
Track File = TF These follow if they exist
Moving Map Parameters = MM? These follow if they exist
MM0,Yes
MMPNUM,4
MMPXY,1,124,99
MMPXY,2,3766,99
MMPXY,3,3766,2990
MMPXY,4,124,2990
MMPLL,1, 109.005117, 33.330022
MMPLL,2, 109.993666, 33.331108
MMPLL,3, 109.990798, 32.669841
MMPLL,4, 109.009598, 32.668971
MM1B,25.265398
MOP,Map Open Position,0,0
IWH,Map Image Width/Height,3890,3089
