OziExplorer Map Data File Version 2.2
200k--i49-24.gif
200k--i49-24.gif
1 ,Map Code,
Pulkovo 1942 (2),WGS 84, 0.0000, 0.0000,WGS 84
Reserved 1
Reserved 2
Magnetic Variation,,,E
Map Projection,Transverse Mercator,PolyCal,No,AutoCalOnly,No,BSBUseWPX,No
Point01,xy, 96, 86,in, deg, 34, 0.0000,N, 113, 0.0000,E, grid, , , ,N
Point02,xy, 1925, 88,in, deg, 34, 0.0000,N, 113, 30.0000,E, grid, , , ,N
Point03,xy, 3752, 85,in, deg, 34, 0.0000,N, 114, 0.0000,E, grid, , , ,N
Point04,xy, 90, 1542,in, deg, 33, 40.0000,N, 113, 0.0000,E, grid, , , ,N
Point05,xy, 1925, 1540,in, deg, 33, 40.0000,N, 113, 30.0000,E, grid, , , ,N
Point06,xy, 3758, 1542,in, deg, 33, 40.0000,N, 114, 0.0000,E, grid, , , ,N
Point07,xy, 83, 2996,in, deg, 33, 20.0000,N, 113, 0.0000,E, grid, , , ,N
Point08,xy, 1926, 2998,in, deg, 33, 20.0000,N, 113, 30.0000,E, grid, , , ,N
Point09,xy, 3764, 2998,in, deg, 33, 20.0000,N, 114, 0.0000,E, grid, , , ,N
Point10,xy, , ,in, deg, , ,N, , ,W, grid, , , ,N
Point11,xy, , ,in, deg, , ,N, , ,W, grid, , , ,N
Point12,xy, , ,in, deg, , ,N, , ,W, grid, , , ,N
Point13,xy, , ,in, deg, , ,N, , ,W, grid, , , ,N
Point14,xy, , ,in, deg, , ,N, , ,W, grid, , , ,N
Point15,xy, , ,in, deg, , ,N, , ,W, grid, , , ,N
Point16,xy, , ,in, deg, , ,N, , ,W, grid, , , ,N
Point17,xy, , ,in, deg, , ,N, , ,W, grid, , , ,N
Point18,xy, , ,in, deg, , ,N, , ,W, grid, , , ,N
Point19,xy, , ,in, deg, , ,N, , ,W, grid, , , ,N
Point20,xy, , ,in, deg, , ,N, , ,W, grid, , , ,N
Point21,xy, , ,in, deg, , ,N, , ,W, grid, , , ,N
Point22,xy, , ,in, deg, , ,N, , ,W, grid, , , ,N
Point23,xy, , ,in, deg, , ,N, , ,W, grid, , , ,N
Point24,xy, , ,in, deg, , ,N, , ,W, grid, , , ,N
Point25,xy, , ,in, deg, , ,N, , ,W, grid, , , ,N
Point26,xy, , ,in, deg, , ,N, , ,W, grid, , , ,N
Point27,xy, , ,in, deg, , ,N, , ,W, grid, , , ,N
Point28,xy, , ,in, deg, , ,N, , ,W, grid, , , ,N
Point29,xy, , ,in, deg, , ,N, , ,W, grid, , , ,N
Point30,xy, , ,in, deg, , ,N, , ,W, grid, , , ,N
Projection Setup, 0.000000000, 111.000000000, 1.000000000, 500000.00, 0.00,,,,,
Map Feature = MF ; Map Comment = MC These follow if they exist
Track File = TF These follow if they exist
Moving Map Parameters = MM? These follow if they exist
MM0,Yes
MMPNUM,4
MMPXY,1,123,99
MMPXY,2,3724,99
MMPXY,3,3724,2981
MMPXY,4,123,2981
MMPLL,1, 113.007055, 33.996797
MMPLL,2, 113.992476, 33.996702
MMPLL,3, 113.988724, 33.336865
MMPLL,4, 113.010811, 33.336616
MM1B,25.281815
MOP,Map Open Position,0,0
IWH,Map Image Width/Height,3847,3080
