OziExplorer Map Data File Version 2.2
200k--i49-23.gif
200k--i49-23.gif
1 ,Map Code,
Pulkovo 1942 (2),WGS 84, 0.0000, 0.0000,WGS 84
Reserved 1
Reserved 2
Magnetic Variation,,,E
Map Projection,Transverse Mercator,PolyCal,No,AutoCalOnly,No,BSBUseWPX,No
Point01,xy, 114, 82,in, deg, 34, 0.0000,N, 112, 0.0000,E, grid, , , ,N
Point02,xy, 1944, 94,in, deg, 34, 0.0000,N, 112, 30.0000,E, grid, , , ,N
Point03,xy, 3772, 95,in, deg, 34, 0.0000,N, 113, 0.0000,E, grid, , , ,N
Point04,xy, 102, 1536,in, deg, 33, 40.0000,N, 112, 0.0000,E, grid, , , ,N
Point05,xy, 1938, 1549,in, deg, 33, 40.0000,N, 112, 30.0000,E, grid, , , ,N
Point06,xy, 3774, 1552,in, deg, 33, 40.0000,N, 113, 0.0000,E, grid, , , ,N
Point07,xy, 89, 2992,in, deg, 33, 20.0000,N, 112, 0.0000,E, grid, , , ,N
Point08,xy, 1932, 3005,in, deg, 33, 20.0000,N, 112, 30.0000,E, grid, , , ,N
Point09,xy, 3776, 3008,in, deg, 33, 20.0000,N, 113, 0.0000,E, grid, , , ,N
Point10,xy, , ,in, deg, , ,N, , ,W, grid, , , ,N
Point11,xy, , ,in, deg, , ,N, , ,W, grid, , , ,N
Point12,xy, , ,in, deg, , ,N, , ,W, grid, , , ,N
Point13,xy, , ,in, deg, , ,N, , ,W, grid, , , ,N
Point14,xy, , ,in, deg, , ,N, , ,W, grid, , , ,N
Point15,xy, , ,in, deg, , ,N, , ,W, grid, , , ,N
Point16,xy, , ,in, deg, , ,N, , ,W, grid, , , ,N
Point17,xy, , ,in, deg, , ,N, , ,W, grid, , , ,N
Point18,xy, , ,in, deg, , ,N, , ,W, grid, , , ,N
Point19,xy, , ,in, deg, , ,N, , ,W, grid, , , ,N
Point20,xy, , ,in, deg, , ,N, , ,W, grid, , , ,N
Point21,xy, , ,in, deg, , ,N, , ,W, grid, , , ,N
Point22,xy, , ,in, deg, , ,N, , ,W, grid, , , ,N
Point23,xy, , ,in, deg, , ,N, , ,W, grid, , , ,N
Point24,xy, , ,in, deg, , ,N, , ,W, grid, , , ,N
Point25,xy, , ,in, deg, , ,N, , ,W, grid, , , ,N
Point26,xy, , ,in, deg, , ,N, , ,W, grid, , , ,N
Point27,xy, , ,in, deg, , ,N, , ,W, grid, , , ,N
Point28,xy, , ,in, deg, , ,N, , ,W, grid, , , ,N
Point29,xy, , ,in, deg, , ,N, , ,W, grid, , , ,N
Point30,xy, , ,in, deg, , ,N, , ,W, grid, , , ,N
Projection Setup, 0.000000000, 111.000000000, 1.000000000, 500000.00, 0.00,,,,,
Map Feature = MF ; Map Comment = MC These follow if they exist
Track File = TF These follow if they exist
Moving Map Parameters = MM? These follow if they exist
MM0,Yes
MMPNUM,4
MMPXY,1,124,99
MMPXY,2,3740,99
MMPXY,3,3740,2994
MMPXY,4,124,2994
MMPLL,1, 112.002682, 33.996009
MMPLL,2, 112.991121, 33.999313
MMPLL,3, 112.990333, 33.336506
MMPLL,4, 112.009452, 33.333019
MM1B,25.246430
MOP,Map Open Position,0,0
IWH,Map Image Width/Height,3864,3093
