OziExplorer Map Data File Version 2.2
200k--i49-22.gif
200k--i49-22.gif
1 ,Map Code,
Pulkovo 1942 (2),WGS 84, 0.0000, 0.0000,WGS 84
Reserved 1
Reserved 2
Magnetic Variation,,,E
Map Projection,Transverse Mercator,PolyCal,No,AutoCalOnly,No,BSBUseWPX,No
Point01,xy, 110, 85,in, deg, 34, 0.0000,N, 111, 0.0000,E, grid, , , ,N
Point02,xy, 1937, 96,in, deg, 34, 0.0000,N, 111, 30.0000,E, grid, , , ,N
Point03,xy, 3765, 92,in, deg, 34, 0.0000,N, 112, 0.0000,E, grid, , , ,N
Point04,xy, 100, 1544,in, deg, 33, 40.0000,N, 111, 0.0000,E, grid, , , ,N
Point05,xy, 1936, 1554,in, deg, 33, 40.0000,N, 111, 30.0000,E, grid, , , ,N
Point06,xy, 3768, 1552,in, deg, 33, 40.0000,N, 112, 0.0000,E, grid, , , ,N
Point07,xy, 88, 3004,in, deg, 33, 20.0000,N, 111, 0.0000,E, grid, , , ,N
Point08,xy, 1934, 3013,in, deg, 33, 20.0000,N, 111, 30.0000,E, grid, , , ,N
Point09,xy, 3773, 3009,in, deg, 33, 20.0000,N, 112, 0.0000,E, grid, , , ,N
Point10,xy, , ,in, deg, , ,N, , ,W, grid, , , ,N
Point11,xy, , ,in, deg, , ,N, , ,W, grid, , , ,N
Point12,xy, , ,in, deg, , ,N, , ,W, grid, , , ,N
Point13,xy, , ,in, deg, , ,N, , ,W, grid, , , ,N
Point14,xy, , ,in, deg, , ,N, , ,W, grid, , , ,N
Point15,xy, , ,in, deg, , ,N, , ,W, grid, , , ,N
Point16,xy, , ,in, deg, , ,N, , ,W, grid, , , ,N
Point17,xy, , ,in, deg, , ,N, , ,W, grid, , , ,N
Point18,xy, , ,in, deg, , ,N, , ,W, grid, , , ,N
Point19,xy, , ,in, deg, , ,N, , ,W, grid, , , ,N
Point20,xy, , ,in, deg, , ,N, , ,W, grid, , , ,N
Point21,xy, , ,in, deg, , ,N, , ,W, grid, , , ,N
Point22,xy, , ,in, deg, , ,N, , ,W, grid, , , ,N
Point23,xy, , ,in, deg, , ,N, , ,W, grid, , , ,N
Point24,xy, , ,in, deg, , ,N, , ,W, grid, , , ,N
Point25,xy, , ,in, deg, , ,N, , ,W, grid, , , ,N
Point26,xy, , ,in, deg, , ,N, , ,W, grid, , , ,N
Point27,xy, , ,in, deg, , ,N, , ,W, grid, , , ,N
Point28,xy, , ,in, deg, , ,N, , ,W, grid, , , ,N
Point29,xy, , ,in, deg, , ,N, , ,W, grid, , , ,N
Point30,xy, , ,in, deg, , ,N, , ,W, grid, , , ,N
Projection Setup, 0.000000000, 111.000000000, 1.000000000, 500000.00, 0.00,,,,,
Map Feature = MF ; Map Comment = MC These follow if they exist
Track File = TF These follow if they exist
Moving Map Parameters = MM? These follow if they exist
MM0,Yes
MMPNUM,4
MMPXY,1,124,99
MMPXY,2,3739,99
MMPXY,3,3739,2999
MMPXY,4,124,2999
MMPLL,1, 111.003904, 33.997123
MMPLL,2, 111.992889, 33.998602
MMPLL,3, 111.990652, 33.336021
MMPLL,4, 111.009222, 33.334486
MM1B,25.265657
MOP,Map Open Position,0,0
IWH,Map Image Width/Height,3863,3098
