OziExplorer Map Data File Version 2.2
200k--i49-19.gif
200k--i49-19.gif
1 ,Map Code,
Pulkovo 1942 (2),WGS 84, 0.0000, 0.0000,WGS 84
Reserved 1
Reserved 2
Magnetic Variation,,,E
Map Projection,Transverse Mercator,PolyCal,No,AutoCalOnly,No,BSBUseWPX,No
Point01,xy, 111, 84,in, deg, 34, 0.0000,N, 108, 0.0000,E, grid, , , ,N
Point02,xy, 1938, 94,in, deg, 34, 0.0000,N, 108, 30.0000,E, grid, , , ,N
Point03,xy, 3768, 94,in, deg, 34, 0.0000,N, 109, 0.0000,E, grid, , , ,N
Point04,xy, 100, 1540,in, deg, 33, 40.0000,N, 108, 0.0000,E, grid, , , ,N
Point05,xy, 1936, 1552,in, deg, 33, 40.0000,N, 108, 30.0000,E, grid, , , ,N
Point06,xy, 3772, 1549,in, deg, 33, 40.0000,N, 109, 0.0000,E, grid, , , ,N
Point07,xy, 90, 2996,in, deg, 33, 20.0000,N, 108, 0.0000,E, grid, , , ,N
Point08,xy, 1933, 3006,in, deg, 33, 20.0000,N, 108, 30.0000,E, grid, , , ,N
Point09,xy, 3774, 3004,in, deg, 33, 20.0000,N, 109, 0.0000,E, grid, , , ,N
Point10,xy, , ,in, deg, , ,N, , ,W, grid, , , ,N
Point11,xy, , ,in, deg, , ,N, , ,W, grid, , , ,N
Point12,xy, , ,in, deg, , ,N, , ,W, grid, , , ,N
Point13,xy, , ,in, deg, , ,N, , ,W, grid, , , ,N
Point14,xy, , ,in, deg, , ,N, , ,W, grid, , , ,N
Point15,xy, , ,in, deg, , ,N, , ,W, grid, , , ,N
Point16,xy, , ,in, deg, , ,N, , ,W, grid, , , ,N
Point17,xy, , ,in, deg, , ,N, , ,W, grid, , , ,N
Point18,xy, , ,in, deg, , ,N, , ,W, grid, , , ,N
Point19,xy, , ,in, deg, , ,N, , ,W, grid, , , ,N
Point20,xy, , ,in, deg, , ,N, , ,W, grid, , , ,N
Point21,xy, , ,in, deg, , ,N, , ,W, grid, , , ,N
Point22,xy, , ,in, deg, , ,N, , ,W, grid, , , ,N
Point23,xy, , ,in, deg, , ,N, , ,W, grid, , , ,N
Point24,xy, , ,in, deg, , ,N, , ,W, grid, , , ,N
Point25,xy, , ,in, deg, , ,N, , ,W, grid, , , ,N
Point26,xy, , ,in, deg, , ,N, , ,W, grid, , , ,N
Point27,xy, , ,in, deg, , ,N, , ,W, grid, , , ,N
Point28,xy, , ,in, deg, , ,N, , ,W, grid, , , ,N
Point29,xy, , ,in, deg, , ,N, , ,W, grid, , , ,N
Point30,xy, , ,in, deg, , ,N, , ,W, grid, , , ,N
Projection Setup, 0.000000000, 111.000000000, 1.000000000, 500000.00, 0.00,,,,,
Map Feature = MF ; Map Comment = MC These follow if they exist
Track File = TF These follow if they exist
Moving Map Parameters = MM? These follow if they exist
MM0,Yes
MMPNUM,4
MMPXY,1,124,99
MMPXY,2,3740,99
MMPXY,3,3740,2990
MMPXY,4,124,2990
MMPLL,1, 108.003668, 33.996710
MMPLL,2, 108.992479, 33.998928
MMPLL,3, 108.990512, 33.336761
MMPLL,4, 108.009255, 33.334902
MM1B,25.264854
MOP,Map Open Position,0,0
IWH,Map Image Width/Height,3864,3089
