OziExplorer Map Data File Version 2.2
200k--i49-15.gif
200k--i49-15.gif
1 ,Map Code,
Pulkovo 1942 (2),WGS 84, 0.0000, 0.0000,WGS 84
Reserved 1
Reserved 2
Magnetic Variation,,,E
Map Projection,Transverse Mercator,PolyCal,No,AutoCalOnly,No,BSBUseWPX,No
Point01,xy, 104, 90,in, deg, 34, 40.0000,N, 110, 0.0000,E, grid, , , ,N
Point02,xy, 1916, 94,in, deg, 34, 40.0000,N, 110, 30.0000,E, grid, , , ,N
Point03,xy, 3730, 89,in, deg, 34, 40.0000,N, 111, 0.0000,E, grid, , , ,N
Point04,xy, 98, 1546,in, deg, 34, 20.0000,N, 110, 0.0000,E, grid, , , ,N
Point05,xy, 1918, 1550,in, deg, 34, 20.0000,N, 110, 30.0000,E, grid, , , ,N
Point06,xy, 3738, 1544,in, deg, 34, 20.0000,N, 111, 0.0000,E, grid, , , ,N
Point07,xy, 91, 3002,in, deg, 34, 0.0000,N, 110, 0.0000,E, grid, , , ,N
Point08,xy, 1918, 3008,in, deg, 34, 0.0000,N, 110, 30.0000,E, grid, , , ,N
Point09,xy, 3746, 3001,in, deg, 34, 0.0000,N, 111, 0.0000,E, grid, , , ,N
Point10,xy, , ,in, deg, , ,N, , ,W, grid, , , ,N
Point11,xy, , ,in, deg, , ,N, , ,W, grid, , , ,N
Point12,xy, , ,in, deg, , ,N, , ,W, grid, , , ,N
Point13,xy, , ,in, deg, , ,N, , ,W, grid, , , ,N
Point14,xy, , ,in, deg, , ,N, , ,W, grid, , , ,N
Point15,xy, , ,in, deg, , ,N, , ,W, grid, , , ,N
Point16,xy, , ,in, deg, , ,N, , ,W, grid, , , ,N
Point17,xy, , ,in, deg, , ,N, , ,W, grid, , , ,N
Point18,xy, , ,in, deg, , ,N, , ,W, grid, , , ,N
Point19,xy, , ,in, deg, , ,N, , ,W, grid, , , ,N
Point20,xy, , ,in, deg, , ,N, , ,W, grid, , , ,N
Point21,xy, , ,in, deg, , ,N, , ,W, grid, , , ,N
Point22,xy, , ,in, deg, , ,N, , ,W, grid, , , ,N
Point23,xy, , ,in, deg, , ,N, , ,W, grid, , , ,N
Point24,xy, , ,in, deg, , ,N, , ,W, grid, , , ,N
Point25,xy, , ,in, deg, , ,N, , ,W, grid, , , ,N
Point26,xy, , ,in, deg, , ,N, , ,W, grid, , , ,N
Point27,xy, , ,in, deg, , ,N, , ,W, grid, , , ,N
Point28,xy, , ,in, deg, , ,N, , ,W, grid, , , ,N
Point29,xy, , ,in, deg, , ,N, , ,W, grid, , , ,N
Point30,xy, , ,in, deg, , ,N, , ,W, grid, , , ,N
Projection Setup, 0.000000000, 111.000000000, 1.000000000, 500000.00, 0.00,,,,,
Map Feature = MF ; Map Comment = MC These follow if they exist
Track File = TF These follow if they exist
Moving Map Parameters = MM? These follow if they exist
MM0,Yes
MMPNUM,4
MMPXY,1,123,99
MMPXY,2,3713,99
MMPXY,3,3713,2985
MMPXY,4,123,2985
MMPLL,1, 110.005286, 34.664595
MMPLL,2, 110.995355, 34.664325
MMPLL,3, 110.991036, 34.003749
MMPLL,4, 110.008697, 34.004083
MM1B,25.268999
MOP,Map Open Position,0,0
IWH,Map Image Width/Height,3836,3084
