OziExplorer Map Data File Version 2.2
200k--i49-12.gif
200k--i49-12.gif
1 ,Map Code,
Pulkovo 1942 (2),WGS 84, 0.0000, 0.0000,WGS 84
Reserved 1
Reserved 2
Magnetic Variation,,,E
Map Projection,Transverse Mercator,PolyCal,No,AutoCalOnly,No,BSBUseWPX,No
Point01,xy, 108, 82,in, deg, 35, 20.0000,N, 113, 0.0000,E, grid, , , ,N
Point02,xy, 1904, 90,in, deg, 35, 20.0000,N, 113, 30.0000,E, grid, , , ,N
Point03,xy, 3706, 92,in, deg, 35, 20.0000,N, 114, 0.0000,E, grid, , , ,N
Point04,xy, 96, 1536,in, deg, 35, 0.0000,N, 113, 0.0000,E, grid, , , ,N
Point05,xy, 1902, 1546,in, deg, 35, 0.0000,N, 113, 30.0000,E, grid, , , ,N
Point06,xy, 3710, 1548,in, deg, 35, 0.0000,N, 114, 0.0000,E, grid, , , ,N
Point07,xy, 84, 2995,in, deg, 34, 40.0000,N, 113, 0.0000,E, grid, , , ,N
Point08,xy, 1898, 3004,in, deg, 34, 40.0000,N, 113, 30.0000,E, grid, , , ,N
Point09,xy, 3713, 3004,in, deg, 34, 40.0000,N, 114, 0.0000,E, grid, , , ,N
Point10,xy, , ,in, deg, , ,N, , ,W, grid, , , ,N
Point11,xy, , ,in, deg, , ,N, , ,W, grid, , , ,N
Point12,xy, , ,in, deg, , ,N, , ,W, grid, , , ,N
Point13,xy, , ,in, deg, , ,N, , ,W, grid, , , ,N
Point14,xy, , ,in, deg, , ,N, , ,W, grid, , , ,N
Point15,xy, , ,in, deg, , ,N, , ,W, grid, , , ,N
Point16,xy, , ,in, deg, , ,N, , ,W, grid, , , ,N
Point17,xy, , ,in, deg, , ,N, , ,W, grid, , , ,N
Point18,xy, , ,in, deg, , ,N, , ,W, grid, , , ,N
Point19,xy, , ,in, deg, , ,N, , ,W, grid, , , ,N
Point20,xy, , ,in, deg, , ,N, , ,W, grid, , , ,N
Point21,xy, , ,in, deg, , ,N, , ,W, grid, , , ,N
Point22,xy, , ,in, deg, , ,N, , ,W, grid, , , ,N
Point23,xy, , ,in, deg, , ,N, , ,W, grid, , , ,N
Point24,xy, , ,in, deg, , ,N, , ,W, grid, , , ,N
Point25,xy, , ,in, deg, , ,N, , ,W, grid, , , ,N
Point26,xy, , ,in, deg, , ,N, , ,W, grid, , , ,N
Point27,xy, , ,in, deg, , ,N, , ,W, grid, , , ,N
Point28,xy, , ,in, deg, , ,N, , ,W, grid, , , ,N
Point29,xy, , ,in, deg, , ,N, , ,W, grid, , , ,N
Point30,xy, , ,in, deg, , ,N, , ,W, grid, , , ,N
Projection Setup, 0.000000000, 111.000000000, 1.000000000, 500000.00, 0.00,,,,,
Map Feature = MF ; Map Comment = MC These follow if they exist
Track File = TF These follow if they exist
Moving Map Parameters = MM? These follow if they exist
MM0,Yes
MMPNUM,4
MMPXY,1,122,99
MMPXY,2,3678,99
MMPXY,3,3678,2990
MMPXY,4,122,2990
MMPLL,1, 113.004286, 35.329314
MMPLL,2, 113.992304, 35.331486
MMPLL,3, 113.990450, 34.670036
MMPLL,4, 113.010366, 34.667546
MM1B,25.258331
MOP,Map Open Position,0,0
IWH,Map Image Width/Height,3800,3089
