OziExplorer Map Data File Version 2.2
200k--i49-09.gif
200k--i49-09.gif
1 ,Map Code,
Pulkovo 1942 (2),WGS 84, 0.0000, 0.0000,WGS 84
Reserved 1
Reserved 2
Magnetic Variation,,,E
Map Projection,Transverse Mercator,PolyCal,No,AutoCalOnly,No,BSBUseWPX,No
Point01,xy, 114, 83,in, deg, 35, 20.0000,N, 110, 0.0000,E, grid, , , ,N
Point02,xy, 1911, 99,in, deg, 35, 20.0000,N, 110, 30.0000,E, grid, , , ,N
Point03,xy, 3710, 104,in, deg, 35, 20.0000,N, 111, 0.0000,E, grid, , , ,N
Point04,xy, 99, 1540,in, deg, 35, 0.0000,N, 110, 0.0000,E, grid, , , ,N
Point05,xy, 1903, 1556,in, deg, 35, 0.0000,N, 110, 30.0000,E, grid, , , ,N
Point06,xy, 3708, 1558,in, deg, 35, 0.0000,N, 111, 0.0000,E, grid, , , ,N
Point07,xy, 84, 2998,in, deg, 34, 40.0000,N, 110, 0.0000,E, grid, , , ,N
Point08,xy, 1895, 3012,in, deg, 34, 40.0000,N, 110, 30.0000,E, grid, , , ,N
Point09,xy, 3708, 3015,in, deg, 34, 40.0000,N, 111, 0.0000,E, grid, , , ,N
Point10,xy, , ,in, deg, , ,N, , ,W, grid, , , ,N
Point11,xy, , ,in, deg, , ,N, , ,W, grid, , , ,N
Point12,xy, , ,in, deg, , ,N, , ,W, grid, , , ,N
Point13,xy, , ,in, deg, , ,N, , ,W, grid, , , ,N
Point14,xy, , ,in, deg, , ,N, , ,W, grid, , , ,N
Point15,xy, , ,in, deg, , ,N, , ,W, grid, , , ,N
Point16,xy, , ,in, deg, , ,N, , ,W, grid, , , ,N
Point17,xy, , ,in, deg, , ,N, , ,W, grid, , , ,N
Point18,xy, , ,in, deg, , ,N, , ,W, grid, , , ,N
Point19,xy, , ,in, deg, , ,N, , ,W, grid, , , ,N
Point20,xy, , ,in, deg, , ,N, , ,W, grid, , , ,N
Point21,xy, , ,in, deg, , ,N, , ,W, grid, , , ,N
Point22,xy, , ,in, deg, , ,N, , ,W, grid, , , ,N
Point23,xy, , ,in, deg, , ,N, , ,W, grid, , , ,N
Point24,xy, , ,in, deg, , ,N, , ,W, grid, , , ,N
Point25,xy, , ,in, deg, , ,N, , ,W, grid, , , ,N
Point26,xy, , ,in, deg, , ,N, , ,W, grid, , , ,N
Point27,xy, , ,in, deg, , ,N, , ,W, grid, , , ,N
Point28,xy, , ,in, deg, , ,N, , ,W, grid, , , ,N
Point29,xy, , ,in, deg, , ,N, , ,W, grid, , , ,N
Point30,xy, , ,in, deg, , ,N, , ,W, grid, , , ,N
Projection Setup, 0.000000000, 111.000000000, 1.000000000, 500000.00, 0.00,,,,,
Map Feature = MF ; Map Comment = MC These follow if they exist
Track File = TF These follow if they exist
Moving Map Parameters = MM? These follow if they exist
MM0,Yes
MMPNUM,4
MMPXY,1,122,99
MMPXY,2,3678,99
MMPXY,3,3678,2999
MMPXY,4,122,2999
MMPLL,1, 110.002252, 35.329983
MMPLL,2, 110.991359, 35.334250
MMPLL,3, 110.991803, 34.670546
MMPLL,4, 110.010649, 34.666382
MM1B,25.280333
MOP,Map Open Position,0,0
IWH,Map Image Width/Height,3800,3098
