OziExplorer Map Data File Version 2.2
500k--i47-2.gif
500k--i47-2.gif
1 ,Map Code,
Pulkovo 1942 (2),WGS 84, 0.0000, 0.0000,WGS 84
Reserved 1
Reserved 2
Magnetic Variation,,,E
Map Projection,Transverse Mercator,PolyCal,No,AutoCalOnly,No,BSBUseWPX,No
Point01,xy, 117, 78,in, deg, 36, 0.0000,N, 99, 0.0000,E, grid, , , ,N
Point02,xy, 1928, 88,in, deg, 36, 0.0000,N, 100, 30.0000,E, grid, , , ,N
Point03,xy, 3741, 73,in, deg, 36, 0.0000,N, 102, 0.0000,E, grid, , , ,N
Point04,xy, 97, 1564,in, deg, 35, 0.0000,N, 99, 0.0000,E, grid, , , ,N
Point05,xy, 1929, 1574,in, deg, 35, 0.0000,N, 100, 30.0000,E, grid, , , ,N
Point06,xy, 3763, 1560,in, deg, 35, 0.0000,N, 102, 0.0000,E, grid, , , ,N
Point07,xy, 77, 3052,in, deg, 34, 0.0000,N, 99, 0.0000,E, grid, , , ,N
Point08,xy, 1931, 3060,in, deg, 34, 0.0000,N, 100, 30.0000,E, grid, , , ,N
Point09,xy, 3785, 3044,in, deg, 34, 0.0000,N, 102, 0.0000,E, grid, , , ,N
Point10,xy, , ,in, deg, , ,N, , ,W, grid, , , ,N
Point11,xy, , ,in, deg, , ,N, , ,W, grid, , , ,N
Point12,xy, , ,in, deg, , ,N, , ,W, grid, , , ,N
Point13,xy, , ,in, deg, , ,N, , ,W, grid, , , ,N
Point14,xy, , ,in, deg, , ,N, , ,W, grid, , , ,N
Point15,xy, , ,in, deg, , ,N, , ,W, grid, , , ,N
Point16,xy, , ,in, deg, , ,N, , ,W, grid, , , ,N
Point17,xy, , ,in, deg, , ,N, , ,W, grid, , , ,N
Point18,xy, , ,in, deg, , ,N, , ,W, grid, , , ,N
Point19,xy, , ,in, deg, , ,N, , ,W, grid, , , ,N
Point20,xy, , ,in, deg, , ,N, , ,W, grid, , , ,N
Point21,xy, , ,in, deg, , ,N, , ,W, grid, , , ,N
Point22,xy, , ,in, deg, , ,N, , ,W, grid, , , ,N
Point23,xy, , ,in, deg, , ,N, , ,W, grid, , , ,N
Point24,xy, , ,in, deg, , ,N, , ,W, grid, , , ,N
Point25,xy, , ,in, deg, , ,N, , ,W, grid, , , ,N
Point26,xy, , ,in, deg, , ,N, , ,W, grid, , , ,N
Point27,xy, , ,in, deg, , ,N, , ,W, grid, , , ,N
Point28,xy, , ,in, deg, , ,N, , ,W, grid, , , ,N
Point29,xy, , ,in, deg, , ,N, , ,W, grid, , , ,N
Point30,xy, , ,in, deg, , ,N, , ,W, grid, , , ,N
Projection Setup, 0.000000000, 99.000000000, 1.000000000, 500000.00, 0.00,,,,,
Map Feature = MF ; Map Comment = MC These follow if they exist
Track File = TF These follow if they exist
Moving Map Parameters = MM? These follow if they exist
MM0,Yes
MMPNUM,4
MMPXY,1,117,78
MMPXY,2,3741,73
MMPXY,3,3785,3044
MMPXY,4,77,3052
MMPLL,1, 99.000000, 36.000000
MMPLL,2, 102.000000, 36.000000
MMPLL,3, 102.000000, 34.000000
MMPLL,4, 99.000000, 34.000000
MM1B,70.835992
MOP,Map Open Position,0,0
IWH,Map Image Width/Height,3866,3134
