OziExplorer Map Data File Version 2.2
200k--i34-12.gif
200k--i34-12.gif
1 ,Map Code,
Pulkovo 1942 (2),WGS 84, 0.0000, 0.0000,WGS 84
Reserved 1
Reserved 2
Magnetic Variation,,,E
Map Projection,Transverse Mercator,PolyCal,No,AutoCalOnly,No,BSBUseWPX,No
Point01,xy, 78, 76,in, deg, 35, 20.0000,N, 23, 0.0000,E, grid, , , ,N
Point02,xy, 1848, 81,in, deg, 35, 20.0000,N, 23, 30.0000,E, grid, , , ,N
Point03,xy, 3617, 80,in, deg, 35, 20.0000,N, 24, 0.0000,E, grid, , , ,N
Point04,xy, 69, 1522,in, deg, 35, 0.0000,N, 23, 0.0000,E, grid, , , ,N
Point05,xy, 1844, 1525,in, deg, 35, 0.0000,N, 23, 30.0000,E, grid, , , ,N
Point06,xy, 3622, 1521,in, deg, 35, 0.0000,N, 24, 0.0000,E, grid, , , ,N
Point07,xy, 59, 2966,in, deg, 34, 40.0000,N, 23, 0.0000,E, grid, , , ,N
Point08,xy, 1845, 2969,in, deg, 34, 40.0000,N, 23, 30.0000,E, grid, , , ,N
Point09,xy, 3627, 2966,in, deg, 34, 40.0000,N, 24, 0.0000,E, grid, , , ,N
Point10,xy, , ,in, deg, , ,N, , ,W, grid, , , ,N
Point11,xy, , ,in, deg, , ,N, , ,W, grid, , , ,N
Point12,xy, , ,in, deg, , ,N, , ,W, grid, , , ,N
Point13,xy, , ,in, deg, , ,N, , ,W, grid, , , ,N
Point14,xy, , ,in, deg, , ,N, , ,W, grid, , , ,N
Point15,xy, , ,in, deg, , ,N, , ,W, grid, , , ,N
Point16,xy, , ,in, deg, , ,N, , ,W, grid, , , ,N
Point17,xy, , ,in, deg, , ,N, , ,W, grid, , , ,N
Point18,xy, , ,in, deg, , ,N, , ,W, grid, , , ,N
Point19,xy, , ,in, deg, , ,N, , ,W, grid, , , ,N
Point20,xy, , ,in, deg, , ,N, , ,W, grid, , , ,N
Point21,xy, , ,in, deg, , ,N, , ,W, grid, , , ,N
Point22,xy, , ,in, deg, , ,N, , ,W, grid, , , ,N
Point23,xy, , ,in, deg, , ,N, , ,W, grid, , , ,N
Point24,xy, , ,in, deg, , ,N, , ,W, grid, , , ,N
Point25,xy, , ,in, deg, , ,N, , ,W, grid, , , ,N
Point26,xy, , ,in, deg, , ,N, , ,W, grid, , , ,N
Point27,xy, , ,in, deg, , ,N, , ,W, grid, , , ,N
Point28,xy, , ,in, deg, , ,N, , ,W, grid, , , ,N
Point29,xy, , ,in, deg, , ,N, , ,W, grid, , , ,N
Point30,xy, , ,in, deg, , ,N, , ,W, grid, , , ,N
Projection Setup, 0.000000000, 21.000000000, 1.000000000, 500000.00, 0.00,,,,,
Map Feature = MF ; Map Comment = MC These follow if they exist
Track File = TF These follow if they exist
Moving Map Parameters = MM? These follow if they exist
MM0,Yes
MMPNUM,4
MMPXY,1,78,76
MMPXY,2,3617,80
MMPXY,3,3627,2966
MMPXY,4,59,2966
MMPLL,1, 23.000000, 35.333333
MMPLL,2, 24.000000, 35.333333
MMPLL,3, 24.000000, 34.666667
MMPLL,4, 23.000000, 34.666667
MM1B,24.318107
MOP,Map Open Position,0,0
IWH,Map Image Width/Height,3689,3043
