OziExplorer Map Data File Version 2.2
500k--h44-3.gif
500k--h44-3.gif
1 ,Map Code,
Pulkovo 1942 (2),WGS 84, 0.0000, 0.0000,WGS 84
Reserved 1
Reserved 2
Magnetic Variation,,,E
Map Projection,Transverse Mercator,PolyCal,No,AutoCalOnly,No,BSBUseWPX,No
Point01,xy, 91, 61,in, deg, 30, 0.0000,N, 78, 0.0000,E, grid, , , ,N
Point02,xy, 2030, 73,in, deg, 30, 0.0000,N, 79, 30.0000,E, grid, , , ,N
Point03,xy, 3965, 61,in, deg, 30, 0.0000,N, 81, 0.0000,E, grid, , , ,N
Point04,xy, 73, 1546,in, deg, 29, 0.0000,N, 78, 0.0000,E, grid, , , ,N
Point05,xy, 2031, 1556,in, deg, 29, 0.0000,N, 79, 30.0000,E, grid, , , ,N
Point06,xy, 3986, 1543,in, deg, 29, 0.0000,N, 81, 0.0000,E, grid, , , ,N
Point07,xy, 54, 3030,in, deg, 28, 0.0000,N, 78, 0.0000,E, grid, , , ,N
Point08,xy, 2033, 3041,in, deg, 28, 0.0000,N, 79, 30.0000,E, grid, , , ,N
Point09,xy, 4008, 3026,in, deg, 28, 0.0000,N, 81, 0.0000,E, grid, , , ,N
Point10,xy, , ,in, deg, , ,N, , ,W, grid, , , ,N
Point11,xy, , ,in, deg, , ,N, , ,W, grid, , , ,N
Point12,xy, , ,in, deg, , ,N, , ,W, grid, , , ,N
Point13,xy, , ,in, deg, , ,N, , ,W, grid, , , ,N
Point14,xy, , ,in, deg, , ,N, , ,W, grid, , , ,N
Point15,xy, , ,in, deg, , ,N, , ,W, grid, , , ,N
Point16,xy, , ,in, deg, , ,N, , ,W, grid, , , ,N
Point17,xy, , ,in, deg, , ,N, , ,W, grid, , , ,N
Point18,xy, , ,in, deg, , ,N, , ,W, grid, , , ,N
Point19,xy, , ,in, deg, , ,N, , ,W, grid, , , ,N
Point20,xy, , ,in, deg, , ,N, , ,W, grid, , , ,N
Point21,xy, , ,in, deg, , ,N, , ,W, grid, , , ,N
Point22,xy, , ,in, deg, , ,N, , ,W, grid, , , ,N
Point23,xy, , ,in, deg, , ,N, , ,W, grid, , , ,N
Point24,xy, , ,in, deg, , ,N, , ,W, grid, , , ,N
Point25,xy, , ,in, deg, , ,N, , ,W, grid, , , ,N
Point26,xy, , ,in, deg, , ,N, , ,W, grid, , , ,N
Point27,xy, , ,in, deg, , ,N, , ,W, grid, , , ,N
Point28,xy, , ,in, deg, , ,N, , ,W, grid, , , ,N
Point29,xy, , ,in, deg, , ,N, , ,W, grid, , , ,N
Point30,xy, , ,in, deg, , ,N, , ,W, grid, , , ,N
Projection Setup, 0.000000000, 81.000000000, 1.000000000, 500000.00, 0.00,,,,,
Map Feature = MF ; Map Comment = MC These follow if they exist
Track File = TF These follow if they exist
Moving Map Parameters = MM? These follow if they exist
MM0,Yes
MMPNUM,4
MMPXY,1,91,61
MMPXY,2,3965,61
MMPXY,3,4008,3026
MMPXY,4,54,3030
MMPLL,1, 78.000000, 30.000000
MMPLL,2, 81.000000, 30.000000
MMPLL,3, 81.000000, 28.000000
MMPLL,4, 78.000000, 28.000000
MM1B,71.566731
MOP,Map Open Position,0,0
IWH,Map Image Width/Height,4068,3102
