OziExplorer Map Data File Version 2.2
500k--h44-2.gif
500k--h44-2.gif
1 ,Map Code,
Pulkovo 1942 (2),WGS 84, 0.0000, 0.0000,WGS 84
Reserved 1
Reserved 2
Magnetic Variation,,,E
Map Projection,Transverse Mercator,PolyCal,No,AutoCalOnly,No,BSBUseWPX,No
Point01,xy, 115, 69,in, deg, 32, 0.0000,N, 81, 0.0000,E, grid, , , ,N
Point02,xy, 2014, 81,in, deg, 32, 0.0000,N, 82, 30.0000,E, grid, , , ,N
Point03,xy, 3916, 69,in, deg, 32, 0.0000,N, 84, 0.0000,E, grid, , , ,N
Point04,xy, 94, 1551,in, deg, 31, 0.0000,N, 81, 0.0000,E, grid, , , ,N
Point05,xy, 2015, 1564,in, deg, 31, 0.0000,N, 82, 30.0000,E, grid, , , ,N
Point06,xy, 3936, 1550,in, deg, 31, 0.0000,N, 84, 0.0000,E, grid, , , ,N
Point07,xy, 73, 3036,in, deg, 30, 0.0000,N, 81, 0.0000,E, grid, , , ,N
Point08,xy, 2017, 3048,in, deg, 30, 0.0000,N, 82, 30.0000,E, grid, , , ,N
Point09,xy, 3958, 3034,in, deg, 30, 0.0000,N, 84, 0.0000,E, grid, , , ,N
Point10,xy, , ,in, deg, , ,N, , ,W, grid, , , ,N
Point11,xy, , ,in, deg, , ,N, , ,W, grid, , , ,N
Point12,xy, , ,in, deg, , ,N, , ,W, grid, , , ,N
Point13,xy, , ,in, deg, , ,N, , ,W, grid, , , ,N
Point14,xy, , ,in, deg, , ,N, , ,W, grid, , , ,N
Point15,xy, , ,in, deg, , ,N, , ,W, grid, , , ,N
Point16,xy, , ,in, deg, , ,N, , ,W, grid, , , ,N
Point17,xy, , ,in, deg, , ,N, , ,W, grid, , , ,N
Point18,xy, , ,in, deg, , ,N, , ,W, grid, , , ,N
Point19,xy, , ,in, deg, , ,N, , ,W, grid, , , ,N
Point20,xy, , ,in, deg, , ,N, , ,W, grid, , , ,N
Point21,xy, , ,in, deg, , ,N, , ,W, grid, , , ,N
Point22,xy, , ,in, deg, , ,N, , ,W, grid, , , ,N
Point23,xy, , ,in, deg, , ,N, , ,W, grid, , , ,N
Point24,xy, , ,in, deg, , ,N, , ,W, grid, , , ,N
Point25,xy, , ,in, deg, , ,N, , ,W, grid, , , ,N
Point26,xy, , ,in, deg, , ,N, , ,W, grid, , , ,N
Point27,xy, , ,in, deg, , ,N, , ,W, grid, , , ,N
Point28,xy, , ,in, deg, , ,N, , ,W, grid, , , ,N
Point29,xy, , ,in, deg, , ,N, , ,W, grid, , , ,N
Point30,xy, , ,in, deg, , ,N, , ,W, grid, , , ,N
Projection Setup, 0.000000000, 81.000000000, 1.000000000, 500000.00, 0.00,,,,,
Map Feature = MF ; Map Comment = MC These follow if they exist
Track File = TF These follow if they exist
Moving Map Parameters = MM? These follow if they exist
MM0,Yes
MMPNUM,4
MMPXY,1,115,69
MMPXY,2,3916,69
MMPXY,3,3958,3034
MMPXY,4,73,3036
MMPLL,1, 81.000000, 32.000000
MMPLL,2, 84.000000, 32.000000
MMPLL,3, 84.000000, 30.000000
MMPLL,4, 81.000000, 30.000000
MM1B,71.062740
MOP,Map Open Position,0,0
IWH,Map Image Width/Height,4038,3124
