OziExplorer Map Data File Version 2.2
200k--h44-34.gif
200k--h44-34.gif
1 ,Map Code,
Pulkovo 1942 (2),WGS 84, 0.0000, 0.0000,WGS 84
Reserved 1
Reserved 2
Magnetic Variation,,,E
Map Projection,Transverse Mercator,PolyCal,No,AutoCalOnly,No,BSBUseWPX,No
Point01,xy, 97, 90,in, deg, 28, 40.0000,N, 81, 0.0000,E, grid, , , ,N
Point02,xy, 2022, 90,in, deg, 28, 40.0000,N, 81, 30.0000,E, grid, , , ,N
Point03,xy, 3948, 88,in, deg, 28, 40.0000,N, 82, 0.0000,E, grid, , , ,N
Point04,xy, 93, 1542,in, deg, 28, 20.0000,N, 81, 0.0000,E, grid, , , ,N
Point05,xy, 2020, 1538,ex, deg, 28, 20.0000,N, 81, 30.0000,E, grid, , , ,N
Point06,xy, 3956, 1543,in, deg, 28, 20.0000,N, 82, 0.0000,E, grid, , , ,N
Point07,xy, 87, 2997,in, deg, 28, 0.0000,N, 81, 0.0000,E, grid, , , ,N
Point08,xy, 2026, 3004,in, deg, 28, 0.0000,N, 81, 30.0000,E, grid, , , ,N
Point09,xy, 3965, 2997,in, deg, 28, 0.0000,N, 82, 0.0000,E, grid, , , ,N
Point10,xy, , ,in, deg, , ,N, , ,W, grid, , , ,N
Point11,xy, , ,in, deg, , ,N, , ,W, grid, , , ,N
Point12,xy, , ,in, deg, , ,N, , ,W, grid, , , ,N
Point13,xy, , ,in, deg, , ,N, , ,W, grid, , , ,N
Point14,xy, , ,in, deg, , ,N, , ,W, grid, , , ,N
Point15,xy, , ,in, deg, , ,N, , ,W, grid, , , ,N
Point16,xy, , ,in, deg, , ,N, , ,W, grid, , , ,N
Point17,xy, , ,in, deg, , ,N, , ,W, grid, , , ,N
Point18,xy, , ,in, deg, , ,N, , ,W, grid, , , ,N
Point19,xy, , ,in, deg, , ,N, , ,W, grid, , , ,N
Point20,xy, , ,in, deg, , ,N, , ,W, grid, , , ,N
Point21,xy, , ,in, deg, , ,N, , ,W, grid, , , ,N
Point22,xy, , ,in, deg, , ,N, , ,W, grid, , , ,N
Point23,xy, , ,in, deg, , ,N, , ,W, grid, , , ,N
Point24,xy, , ,in, deg, , ,N, , ,W, grid, , , ,N
Point25,xy, , ,in, deg, , ,N, , ,W, grid, , , ,N
Point26,xy, , ,in, deg, , ,N, , ,W, grid, , , ,N
Point27,xy, , ,in, deg, , ,N, , ,W, grid, , , ,N
Point28,xy, , ,in, deg, , ,N, , ,W, grid, , , ,N
Point29,xy, , ,in, deg, , ,N, , ,W, grid, , , ,N
Point30,xy, , ,in, deg, , ,N, , ,W, grid, , , ,N
Projection Setup, 0.000000000, 81.000000000, 1.000000000, 500000.00, 0.00,,,,,
Map Feature = MF ; Map Comment = MC These follow if they exist
Track File = TF These follow if they exist
Moving Map Parameters = MM? These follow if they exist
MM0,Yes
MMPNUM,4
MMPXY,1,129,99
MMPXY,2,3916,99
MMPXY,3,3916,2981
MMPXY,4,129,2981
MMPLL,1, 81.008456, 28.664201
MMPLL,2, 81.991578, 28.664088
MMPLL,3, 81.987612, 28.003893
MMPLL,4, 81.010548, 28.003923
MM1B,25.367896
MOP,Map Open Position,0,0
IWH,Map Image Width/Height,4045,3080
