OziExplorer Map Data File Version 2.2
200k--h44-29.gif
200k--h44-29.gif
1 ,Map Code,
Pulkovo 1942 (2),WGS 84, 0.0000, 0.0000,WGS 84
Reserved 1
Reserved 2
Magnetic Variation,,,E
Map Projection,Transverse Mercator,PolyCal,No,AutoCalOnly,No,BSBUseWPX,No
Point01,xy, 97, 99,in, deg, 29, 20.0000,N, 82, 0.0000,E, grid, , , ,N
Point02,xy, 2010, 96,in, deg, 29, 20.0000,N, 82, 30.0000,E, grid, , , ,N
Point03,xy, 3924, 91,in, deg, 29, 20.0000,N, 83, 0.0000,E, grid, , , ,N
Point04,xy, 96, 1552,in, deg, 29, 0.0000,N, 82, 0.0000,E, grid, , , ,N
Point05,xy, 2022, 1555,ex, deg, 29, 0.0000,N, 82, 30.0000,E, grid, , , ,N
Point06,xy, 3934, 1547,in, deg, 29, 0.0000,N, 83, 0.0000,E, grid, , , ,N
Point07,xy, 92, 3003,in, deg, 28, 40.0000,N, 82, 0.0000,E, grid, , , ,N
Point08,xy, 2019, 3009,in, deg, 28, 40.0000,N, 82, 30.0000,E, grid, , , ,N
Point09,xy, 3944, 3004,in, deg, 28, 40.0000,N, 83, 0.0000,E, grid, , , ,N
Point10,xy, , ,in, deg, , ,N, , ,W, grid, , , ,N
Point11,xy, , ,in, deg, , ,N, , ,W, grid, , , ,N
Point12,xy, , ,in, deg, , ,N, , ,W, grid, , , ,N
Point13,xy, , ,in, deg, , ,N, , ,W, grid, , , ,N
Point14,xy, , ,in, deg, , ,N, , ,W, grid, , , ,N
Point15,xy, , ,in, deg, , ,N, , ,W, grid, , , ,N
Point16,xy, , ,in, deg, , ,N, , ,W, grid, , , ,N
Point17,xy, , ,in, deg, , ,N, , ,W, grid, , , ,N
Point18,xy, , ,in, deg, , ,N, , ,W, grid, , , ,N
Point19,xy, , ,in, deg, , ,N, , ,W, grid, , , ,N
Point20,xy, , ,in, deg, , ,N, , ,W, grid, , , ,N
Point21,xy, , ,in, deg, , ,N, , ,W, grid, , , ,N
Point22,xy, , ,in, deg, , ,N, , ,W, grid, , , ,N
Point23,xy, , ,in, deg, , ,N, , ,W, grid, , , ,N
Point24,xy, , ,in, deg, , ,N, , ,W, grid, , , ,N
Point25,xy, , ,in, deg, , ,N, , ,W, grid, , , ,N
Point26,xy, , ,in, deg, , ,N, , ,W, grid, , , ,N
Point27,xy, , ,in, deg, , ,N, , ,W, grid, , , ,N
Point28,xy, , ,in, deg, , ,N, , ,W, grid, , , ,N
Point29,xy, , ,in, deg, , ,N, , ,W, grid, , , ,N
Point30,xy, , ,in, deg, , ,N, , ,W, grid, , , ,N
Projection Setup, 0.000000000, 81.000000000, 1.000000000, 500000.00, 0.00,,,,,
Map Feature = MF ; Map Comment = MC These follow if they exist
Track File = TF These follow if they exist
Moving Map Parameters = MM? These follow if they exist
MM0,Yes
MMPNUM,4
MMPXY,1,129,99
MMPXY,2,3910,99
MMPXY,3,3910,2999
MMPXY,4,129,2999
MMPLL,1, 82.008316, 29.332745
MMPLL,2, 82.996370, 29.331712
MMPLL,3, 82.991136, 28.667477
MMPLL,4, 82.009381, 28.668265
MM1B,25.376387
MOP,Map Open Position,0,0
IWH,Map Image Width/Height,4039,3098
