OziExplorer Map Data File Version 2.2
100k--h44-100.gif
100k--h44-100.gif
1 ,Map Code,
Pulkovo 1942 (2),WGS 84, 0.0000, 0.0000,WGS 84
Reserved 1
Reserved 2
Magnetic Variation,,,E
Map Projection,Transverse Mercator,PolyCal,No,AutoCalOnly,No,BSBUseWPX,No
Point01,xy, 101, 94,in, deg, 29, 20.0000,N, 79, 30.0000,E, grid, , , ,N
Point02,xy, 2010, 100,in, deg, 29, 20.0000,N, 79, 45.0000,E, grid, , , ,N
Point03,xy, 3917, 97,in, deg, 29, 20.0000,N, 80, 0.0000,E, grid, , , ,N
Point04,xy, 96, 1553,in, deg, 29, 10.0000,N, 79, 30.0000,E, grid, , , ,N
Point05,xy, 2008, 1556,in, deg, 29, 10.0000,N, 79, 45.0000,E, grid, , , ,N
Point06,xy, 3917, 1558,in, deg, 29, 10.0000,N, 80, 0.0000,E, grid, , , ,N
Point07,xy, 92, 3010,in, deg, 29, 0.0000,N, 79, 30.0000,E, grid, , , ,N
Point08,xy, 2006, 3016,in, deg, 29, 0.0000,N, 79, 45.0000,E, grid, , , ,N
Point09,xy, 3918, 3014,in, deg, 29, 0.0000,N, 80, 0.0000,E, grid, , , ,N
Point10,xy, , ,in, deg, , ,N, , ,W, grid, , , ,N
Point11,xy, , ,in, deg, , ,N, , ,W, grid, , , ,N
Point12,xy, , ,in, deg, , ,N, , ,W, grid, , , ,N
Point13,xy, , ,in, deg, , ,N, , ,W, grid, , , ,N
Point14,xy, , ,in, deg, , ,N, , ,W, grid, , , ,N
Point15,xy, , ,in, deg, , ,N, , ,W, grid, , , ,N
Point16,xy, , ,in, deg, , ,N, , ,W, grid, , , ,N
Point17,xy, , ,in, deg, , ,N, , ,W, grid, , , ,N
Point18,xy, , ,in, deg, , ,N, , ,W, grid, , , ,N
Point19,xy, , ,in, deg, , ,N, , ,W, grid, , , ,N
Point20,xy, , ,in, deg, , ,N, , ,W, grid, , , ,N
Point21,xy, , ,in, deg, , ,N, , ,W, grid, , , ,N
Point22,xy, , ,in, deg, , ,N, , ,W, grid, , , ,N
Point23,xy, , ,in, deg, , ,N, , ,W, grid, , , ,N
Point24,xy, , ,in, deg, , ,N, , ,W, grid, , , ,N
Point25,xy, , ,in, deg, , ,N, , ,W, grid, , , ,N
Point26,xy, , ,in, deg, , ,N, , ,W, grid, , , ,N
Point27,xy, , ,in, deg, , ,N, , ,W, grid, , , ,N
Point28,xy, , ,in, deg, , ,N, , ,W, grid, , , ,N
Point29,xy, , ,in, deg, , ,N, , ,W, grid, , , ,N
Point30,xy, , ,in, deg, , ,N, , ,W, grid, , , ,N
Projection Setup, 0.000000000, 81.000000000, 1.000000000, 500000.00, 0.00,,,,,
Map Feature = MF ; Map Comment = MC These follow if they exist
Track File = TF These follow if they exist
Moving Map Parameters = MM? These follow if they exist
MM0,Yes
MMPNUM,4
MMPXY,1,129,99
MMPXY,2,3888,99
MMPXY,3,3888,3005
MMPXY,4,129,3005
MMPLL,1, 79.503566, 29.332815
MMPLL,2, 79.996248, 29.333289
MMPLL,3, 79.995977, 29.001114
MMPLL,4, 79.504879, 29.000690
MM1B,12.726774
MOP,Map Open Position,0,0
IWH,Map Image Width/Height,4017,3104
