OziExplorer Map Data File Version 2.2
100k--h44-099.gif
100k--h44-099.gif
1 ,Map Code,
Pulkovo 1942 (2),WGS 84, 0.0000, 0.0000,WGS 84
Reserved 1
Reserved 2
Magnetic Variation,,,E
Map Projection,Transverse Mercator,PolyCal,No,AutoCalOnly,No,BSBUseWPX,No
Point01,xy, 98, 96,in, deg, 29, 20.0000,N, 79, 0.0000,E, grid, , , ,N
Point02,xy, 2008, 102,in, deg, 29, 20.0000,N, 79, 15.0000,E, grid, , , ,N
Point03,xy, 3914, 97,in, deg, 29, 20.0000,N, 79, 30.0000,E, grid, , , ,N
Point04,xy, 94, 1550,in, deg, 29, 10.0000,N, 79, 0.0000,E, grid, , , ,N
Point05,xy, 2005, 1560,in, deg, 29, 10.0000,N, 79, 15.0000,E, grid, , , ,N
Point06,xy, 3916, 1556,in, deg, 29, 10.0000,N, 79, 30.0000,E, grid, , , ,N
Point07,xy, 90, 3012,in, deg, 29, 0.0000,N, 79, 0.0000,E, grid, , , ,N
Point08,xy, 2003, 3014,in, deg, 29, 0.0000,N, 79, 15.0000,E, grid, , , ,N
Point09,xy, 3918, 3012,in, deg, 29, 0.0000,N, 79, 30.0000,E, grid, , , ,N
Point10,xy, , ,in, deg, , ,N, , ,W, grid, , , ,N
Point11,xy, , ,in, deg, , ,N, , ,W, grid, , , ,N
Point12,xy, , ,in, deg, , ,N, , ,W, grid, , , ,N
Point13,xy, , ,in, deg, , ,N, , ,W, grid, , , ,N
Point14,xy, , ,in, deg, , ,N, , ,W, grid, , , ,N
Point15,xy, , ,in, deg, , ,N, , ,W, grid, , , ,N
Point16,xy, , ,in, deg, , ,N, , ,W, grid, , , ,N
Point17,xy, , ,in, deg, , ,N, , ,W, grid, , , ,N
Point18,xy, , ,in, deg, , ,N, , ,W, grid, , , ,N
Point19,xy, , ,in, deg, , ,N, , ,W, grid, , , ,N
Point20,xy, , ,in, deg, , ,N, , ,W, grid, , , ,N
Point21,xy, , ,in, deg, , ,N, , ,W, grid, , , ,N
Point22,xy, , ,in, deg, , ,N, , ,W, grid, , , ,N
Point23,xy, , ,in, deg, , ,N, , ,W, grid, , , ,N
Point24,xy, , ,in, deg, , ,N, , ,W, grid, , , ,N
Point25,xy, , ,in, deg, , ,N, , ,W, grid, , , ,N
Point26,xy, , ,in, deg, , ,N, , ,W, grid, , , ,N
Point27,xy, , ,in, deg, , ,N, , ,W, grid, , , ,N
Point28,xy, , ,in, deg, , ,N, , ,W, grid, , , ,N
Point29,xy, , ,in, deg, , ,N, , ,W, grid, , , ,N
Point30,xy, , ,in, deg, , ,N, , ,W, grid, , , ,N
Projection Setup, 0.000000000, 81.000000000, 1.000000000, 500000.00, 0.00,,,,,
Map Feature = MF ; Map Comment = MC These follow if they exist
Track File = TF These follow if they exist
Moving Map Parameters = MM? These follow if they exist
MM0,Yes
MMPNUM,4
MMPXY,1,128,99
MMPXY,2,3884,99
MMPXY,3,3884,3005
MMPXY,4,128,3005
MMPLL,1, 79.003841, 29.333031
MMPLL,2, 79.496002, 29.333327
MMPLL,3, 79.495601, 29.000915
MMPLL,4, 79.005024, 29.000687
MM1B,12.724963
MOP,Map Open Position,0,0
IWH,Map Image Width/Height,4012,3104
