OziExplorer Map Data File Version 2.2
100k--h44-052.gif
100k--h44-052.gif
1 ,Map Code,
Pulkovo 1942 (2),WGS 84, 0.0000, 0.0000,WGS 84
Reserved 1
Reserved 2
Magnetic Variation,,,E
Map Projection,Transverse Mercator,PolyCal,No,AutoCalOnly,No,BSBUseWPX,No
Point01,xy, 98, 100,in, deg, 30, 40.0000,N, 79, 30.0000,E, grid, , , ,N
Point02,xy, 1986, 100,in, deg, 30, 40.0000,N, 79, 45.0000,E, grid, , , ,N
Point03,xy, 3872, 98,in, deg, 30, 40.0000,N, 80, 0.0000,E, grid, , , ,N
Point04,xy, 94, 1560,in, deg, 30, 30.0000,N, 79, 30.0000,E, grid, , , ,N
Point05,xy, 1986, 1560,in, deg, 30, 30.0000,N, 79, 45.0000,E, grid, , , ,N
Point06,xy, 3876, 1558,in, deg, 30, 30.0000,N, 80, 0.0000,E, grid, , , ,N
Point07,xy, 93, 3014,in, deg, 30, 20.0000,N, 79, 30.0000,E, grid, , , ,N
Point08,xy, 1985, 3016,in, deg, 30, 20.0000,N, 79, 45.0000,E, grid, , , ,N
Point09,xy, 3880, 3011,in, deg, 30, 20.0000,N, 80, 0.0000,E, grid, , , ,N
Point10,xy, , ,in, deg, , ,N, , ,W, grid, , , ,N
Point11,xy, , ,in, deg, , ,N, , ,W, grid, , , ,N
Point12,xy, , ,in, deg, , ,N, , ,W, grid, , , ,N
Point13,xy, , ,in, deg, , ,N, , ,W, grid, , , ,N
Point14,xy, , ,in, deg, , ,N, , ,W, grid, , , ,N
Point15,xy, , ,in, deg, , ,N, , ,W, grid, , , ,N
Point16,xy, , ,in, deg, , ,N, , ,W, grid, , , ,N
Point17,xy, , ,in, deg, , ,N, , ,W, grid, , , ,N
Point18,xy, , ,in, deg, , ,N, , ,W, grid, , , ,N
Point19,xy, , ,in, deg, , ,N, , ,W, grid, , , ,N
Point20,xy, , ,in, deg, , ,N, , ,W, grid, , , ,N
Point21,xy, , ,in, deg, , ,N, , ,W, grid, , , ,N
Point22,xy, , ,in, deg, , ,N, , ,W, grid, , , ,N
Point23,xy, , ,in, deg, , ,N, , ,W, grid, , , ,N
Point24,xy, , ,in, deg, , ,N, , ,W, grid, , , ,N
Point25,xy, , ,in, deg, , ,N, , ,W, grid, , , ,N
Point26,xy, , ,in, deg, , ,N, , ,W, grid, , , ,N
Point27,xy, , ,in, deg, , ,N, , ,W, grid, , , ,N
Point28,xy, , ,in, deg, , ,N, , ,W, grid, , , ,N
Point29,xy, , ,in, deg, , ,N, , ,W, grid, , , ,N
Point30,xy, , ,in, deg, , ,N, , ,W, grid, , , ,N
Projection Setup, 0.000000000, 81.000000000, 1.000000000, 500000.00, 0.00,,,,,
Map Feature = MF ; Map Comment = MC These follow if they exist
Track File = TF These follow if they exist
Moving Map Parameters = MM? These follow if they exist
MM0,Yes
MMPNUM,4
MMPXY,1,127,99
MMPXY,2,3848,99
MMPXY,3,3848,3005
MMPXY,4,127,3005
MMPLL,1, 79.503849, 30.666859
MMPLL,2, 79.996756, 30.666618
MMPLL,3, 79.995830, 30.334217
MMPLL,4, 79.504597, 30.334504
MM1B,12.691418
MOP,Map Open Position,0,0
IWH,Map Image Width/Height,3975,3104
