OziExplorer Map Data File Version 2.2
100k--h44-040.gif
100k--h44-040.gif
1 ,Map Code,
Pulkovo 1942 (2),WGS 84, 0.0000, 0.0000,WGS 84
Reserved 1
Reserved 2
Magnetic Variation,,,E
Map Projection,Transverse Mercator,PolyCal,No,AutoCalOnly,No,BSBUseWPX,No
Point01,xy, 100, 98,in, deg, 31, 0.0000,N, 79, 30.0000,E, grid, , , ,N
Point02,xy, 1980, 95,in, deg, 31, 0.0000,N, 79, 45.0000,E, grid, , , ,N
Point03,xy, 3863, 95,in, deg, 31, 0.0000,N, 80, 0.0000,E, grid, , , ,N
Point04,xy, 98, 1556,in, deg, 30, 50.0000,N, 79, 30.0000,E, grid, , , ,N
Point05,xy, 1981, 1557,in, deg, 30, 50.0000,N, 79, 45.0000,E, grid, , , ,N
Point06,xy, 3866, 1554,in, deg, 30, 50.0000,N, 80, 0.0000,E, grid, , , ,N
Point07,xy, 96, 3009,in, deg, 30, 40.0000,N, 79, 30.0000,E, grid, , , ,N
Point08,xy, 1982, 3010,in, deg, 30, 40.0000,N, 79, 45.0000,E, grid, , , ,N
Point09,xy, 3866, 3007,in, deg, 30, 40.0000,N, 80, 0.0000,E, grid, , , ,N
Point10,xy, , ,in, deg, , ,N, , ,W, grid, , , ,N
Point11,xy, , ,in, deg, , ,N, , ,W, grid, , , ,N
Point12,xy, , ,in, deg, , ,N, , ,W, grid, , , ,N
Point13,xy, , ,in, deg, , ,N, , ,W, grid, , , ,N
Point14,xy, , ,in, deg, , ,N, , ,W, grid, , , ,N
Point15,xy, , ,in, deg, , ,N, , ,W, grid, , , ,N
Point16,xy, , ,in, deg, , ,N, , ,W, grid, , , ,N
Point17,xy, , ,in, deg, , ,N, , ,W, grid, , , ,N
Point18,xy, , ,in, deg, , ,N, , ,W, grid, , , ,N
Point19,xy, , ,in, deg, , ,N, , ,W, grid, , , ,N
Point20,xy, , ,in, deg, , ,N, , ,W, grid, , , ,N
Point21,xy, , ,in, deg, , ,N, , ,W, grid, , , ,N
Point22,xy, , ,in, deg, , ,N, , ,W, grid, , , ,N
Point23,xy, , ,in, deg, , ,N, , ,W, grid, , , ,N
Point24,xy, , ,in, deg, , ,N, , ,W, grid, , , ,N
Point25,xy, , ,in, deg, , ,N, , ,W, grid, , , ,N
Point26,xy, , ,in, deg, , ,N, , ,W, grid, , , ,N
Point27,xy, , ,in, deg, , ,N, , ,W, grid, , , ,N
Point28,xy, , ,in, deg, , ,N, , ,W, grid, , , ,N
Point29,xy, , ,in, deg, , ,N, , ,W, grid, , , ,N
Point30,xy, , ,in, deg, , ,N, , ,W, grid, , , ,N
Projection Setup, 0.000000000, 81.000000000, 1.000000000, 500000.00, 0.00,,,,,
Map Feature = MF ; Map Comment = MC These follow if they exist
Track File = TF These follow if they exist
Moving Map Parameters = MM? These follow if they exist
MM0,Yes
MMPNUM,4
MMPXY,1,127,99
MMPXY,2,3832,99
MMPXY,3,3832,3005
MMPXY,4,127,3005
MMPLL,1, 79.503468, 30.999829
MMPLL,2, 79.996090, 30.999590
MMPLL,3, 79.995198, 30.666999
MMPLL,4, 79.504273, 30.667284
MM1B,12.694914
MOP,Map Open Position,0,0
IWH,Map Image Width/Height,3959,3104
