OziExplorer Map Data File Version 2.2
100k--h44-013.gif
100k--h44-013.gif
1 ,Map Code,
Pulkovo 1942 (2),WGS 84, 0.0000, 0.0000,WGS 84
Reserved 1
Reserved 2
Magnetic Variation,,,E
Map Projection,Transverse Mercator,PolyCal,No,AutoCalOnly,No,BSBUseWPX,No
Point01,xy, 118, 101,in, deg, 31, 40.0000,N, 78, 0.0000,E, grid, , , ,N
Point02,xy, 1983, 100,in, deg, 31, 40.0000,N, 78, 15.0000,E, grid, , , ,N
Point03,xy, 3850, 94,in, deg, 31, 40.0000,N, 78, 30.0000,E, grid, , , ,N
Point04,xy, 114, 1561,in, deg, 31, 30.0000,N, 78, 0.0000,E, grid, , , ,N
Point05,xy, 1984, 1558,in, deg, 31, 30.0000,N, 78, 15.0000,E, grid, , , ,N
Point06,xy, 3856, 1555,in, deg, 31, 30.0000,N, 78, 30.0000,E, grid, , , ,N
Point07,xy, 114, 3014,in, deg, 31, 20.0000,N, 78, 0.0000,E, grid, , , ,N
Point08,xy, 1985, 3012,ex, deg, 31, 20.0000,N, 78, 15.0000,E, grid, , , ,N
Point09,xy, 3859, 3005,in, deg, 31, 20.0000,N, 78, 30.0000,E, grid, , , ,N
Point10,xy, , ,in, deg, , ,N, , ,W, grid, , , ,N
Point11,xy, , ,in, deg, , ,N, , ,W, grid, , , ,N
Point12,xy, , ,in, deg, , ,N, , ,W, grid, , , ,N
Point13,xy, , ,in, deg, , ,N, , ,W, grid, , , ,N
Point14,xy, , ,in, deg, , ,N, , ,W, grid, , , ,N
Point15,xy, , ,in, deg, , ,N, , ,W, grid, , , ,N
Point16,xy, , ,in, deg, , ,N, , ,W, grid, , , ,N
Point17,xy, , ,in, deg, , ,N, , ,W, grid, , , ,N
Point18,xy, , ,in, deg, , ,N, , ,W, grid, , , ,N
Point19,xy, , ,in, deg, , ,N, , ,W, grid, , , ,N
Point20,xy, , ,in, deg, , ,N, , ,W, grid, , , ,N
Point21,xy, , ,in, deg, , ,N, , ,W, grid, , , ,N
Point22,xy, , ,in, deg, , ,N, , ,W, grid, , , ,N
Point23,xy, , ,in, deg, , ,N, , ,W, grid, , , ,N
Point24,xy, , ,in, deg, , ,N, , ,W, grid, , , ,N
Point25,xy, , ,in, deg, , ,N, , ,W, grid, , , ,N
Point26,xy, , ,in, deg, , ,N, , ,W, grid, , , ,N
Point27,xy, , ,in, deg, , ,N, , ,W, grid, , , ,N
Point28,xy, , ,in, deg, , ,N, , ,W, grid, , , ,N
Point29,xy, , ,in, deg, , ,N, , ,W, grid, , , ,N
Point30,xy, , ,in, deg, , ,N, , ,W, grid, , , ,N
Projection Setup, 0.000000000, 81.000000000, 1.000000000, 500000.00, 0.00,,,,,
Map Feature = MF ; Map Comment = MC These follow if they exist
Track File = TF These follow if they exist
Moving Map Parameters = MM? These follow if they exist
MM0,Yes
MMPNUM,4
MMPXY,1,127,100
MMPXY,2,3838,100
MMPXY,3,3838,3014
MMPXY,4,127,3014
MMPLL,1, 78.001339, 31.666919
MMPLL,2, 78.498388, 31.666137
MMPLL,3, 78.497129, 31.332579
MMPLL,4, 78.001844, 31.333461
MM1B,12.703133
MOP,Map Open Position,0,0
IWH,Map Image Width/Height,3965,3114
