OziExplorer Map Data File Version 2.2
100k--h29-123.gif
100k--h29-123.gif
1 ,Map Code,
Pulkovo 1942 (2),WGS 84, 0.0000, 0.0000,WGS 84
Reserved 1
Reserved 2
Magnetic Variation,,,E
Map Projection,Transverse Mercator,PolyCal,No,AutoCalOnly,No,BSBUseWPX,No
Point01,xy, 105, 90,in, deg, 28, 40.0000,N, 11, 0.0000,W, grid, , , ,N
Point02,xy, 2017, 96,in, deg, 28, 40.0000,N, 10, 45.0000,W, grid, , , ,N
Point03,xy, 3931, 91,in, deg, 28, 40.0000,N, 10, 30.0000,W, grid, , , ,N
Point04,xy, 99, 1536,in, deg, 28, 30.0000,N, 11, 0.0000,W, grid, , , ,N
Point05,xy, 2015, 1541,in, deg, 28, 30.0000,N, 10, 45.0000,W, grid, , , ,N
Point06,xy, 3932, 1536,in, deg, 28, 30.0000,N, 10, 30.0000,W, grid, , , ,N
Point07,xy, 93, 2978,in, deg, 28, 20.0000,N, 11, 0.0000,W, grid, , , ,N
Point08,xy, 2012, 2984,in, deg, 28, 20.0000,N, 10, 45.0000,W, grid, , , ,N
Point09,xy, 3933, 2982,in, deg, 28, 20.0000,N, 10, 30.0000,W, grid, , , ,N
Point10,xy, , ,in, deg, , ,N, , ,W, grid, , , ,N
Point11,xy, , ,in, deg, , ,N, , ,W, grid, , , ,N
Point12,xy, , ,in, deg, , ,N, , ,W, grid, , , ,N
Point13,xy, , ,in, deg, , ,N, , ,W, grid, , , ,N
Point14,xy, , ,in, deg, , ,N, , ,W, grid, , , ,N
Point15,xy, , ,in, deg, , ,N, , ,W, grid, , , ,N
Point16,xy, , ,in, deg, , ,N, , ,W, grid, , , ,N
Point17,xy, , ,in, deg, , ,N, , ,W, grid, , , ,N
Point18,xy, , ,in, deg, , ,N, , ,W, grid, , , ,N
Point19,xy, , ,in, deg, , ,N, , ,W, grid, , , ,N
Point20,xy, , ,in, deg, , ,N, , ,W, grid, , , ,N
Point21,xy, , ,in, deg, , ,N, , ,W, grid, , , ,N
Point22,xy, , ,in, deg, , ,N, , ,W, grid, , , ,N
Point23,xy, , ,in, deg, , ,N, , ,W, grid, , , ,N
Point24,xy, , ,in, deg, , ,N, , ,W, grid, , , ,N
Point25,xy, , ,in, deg, , ,N, , ,W, grid, , , ,N
Point26,xy, , ,in, deg, , ,N, , ,W, grid, , , ,N
Point27,xy, , ,in, deg, , ,N, , ,W, grid, , , ,N
Point28,xy, , ,in, deg, , ,N, , ,W, grid, , , ,N
Point29,xy, , ,in, deg, , ,N, , ,W, grid, , , ,N
Point30,xy, , ,in, deg, , ,N, , ,W, grid, , , ,N
Projection Setup, 0.000000000, -9.000000000, 1.000000000, 500000.00, 0.00,,,,,
Map Feature = MF ; Map Comment = MC These follow if they exist
Track File = TF These follow if they exist
Moving Map Parameters = MM? These follow if they exist
MM0,Yes
MMPNUM,4
MMPXY,1,105,90
MMPXY,2,3931,91
MMPXY,3,3933,2982
MMPXY,4,93,2978
MMPLL,1, -11.000000, 28.666667
MMPLL,2, -10.500000, 28.666667
MMPLL,3, -10.500000, 28.333333
MMPLL,4, -11.000000, 28.333333
MM1B,12.032520
MOP,Map Open Position,0,0
IWH,Map Image Width/Height,4023,3075
