OziExplorer Map Data File Version 2.2
100k--h29-072.gif
100k--h29-072.gif
1 ,Map Code,
Pulkovo 1942 (2),WGS 84, 0.0000, 0.0000,WGS 84
Reserved 1
Reserved 2
Magnetic Variation,,,E
Map Projection,Transverse Mercator,PolyCal,No,AutoCalOnly,No,BSBUseWPX,No
Point01,xy, 97, 99,in, deg, 30, 20.0000,N, 6, 30.0000,W, grid, , , ,N
Point02,xy, 1979, 96,in, deg, 30, 20.0000,N, 6, 15.0000,W, grid, , , ,N
Point03,xy, 3862, 86,in, deg, 30, 20.0000,N, 6, 0.0000,W, grid, , , ,N
Point04,xy, 97, 1544,in, deg, 30, 10.0000,N, 6, 30.0000,W, grid, , , ,N
Point05,xy, 1984, 1541,in, deg, 30, 10.0000,N, 6, 15.0000,W, grid, , , ,N
Point06,xy, 3870, 1534,in, deg, 30, 10.0000,N, 6, 0.0000,W, grid, , , ,N
Point07,xy, 96, 2987,in, deg, 30, 0.0000,N, 6, 30.0000,W, grid, , , ,N
Point08,xy, 1982, 2985,in, deg, 30, 0.0000,N, 6, 15.0000,W, grid, , , ,N
Point09,xy, 3877, 2977,in, deg, 30, 0.0000,N, 6, 0.0000,W, grid, , , ,N
Point10,xy, , ,in, deg, , ,N, , ,W, grid, , , ,N
Point11,xy, , ,in, deg, , ,N, , ,W, grid, , , ,N
Point12,xy, , ,in, deg, , ,N, , ,W, grid, , , ,N
Point13,xy, , ,in, deg, , ,N, , ,W, grid, , , ,N
Point14,xy, , ,in, deg, , ,N, , ,W, grid, , , ,N
Point15,xy, , ,in, deg, , ,N, , ,W, grid, , , ,N
Point16,xy, , ,in, deg, , ,N, , ,W, grid, , , ,N
Point17,xy, , ,in, deg, , ,N, , ,W, grid, , , ,N
Point18,xy, , ,in, deg, , ,N, , ,W, grid, , , ,N
Point19,xy, , ,in, deg, , ,N, , ,W, grid, , , ,N
Point20,xy, , ,in, deg, , ,N, , ,W, grid, , , ,N
Point21,xy, , ,in, deg, , ,N, , ,W, grid, , , ,N
Point22,xy, , ,in, deg, , ,N, , ,W, grid, , , ,N
Point23,xy, , ,in, deg, , ,N, , ,W, grid, , , ,N
Point24,xy, , ,in, deg, , ,N, , ,W, grid, , , ,N
Point25,xy, , ,in, deg, , ,N, , ,W, grid, , , ,N
Point26,xy, , ,in, deg, , ,N, , ,W, grid, , , ,N
Point27,xy, , ,in, deg, , ,N, , ,W, grid, , , ,N
Point28,xy, , ,in, deg, , ,N, , ,W, grid, , , ,N
Point29,xy, , ,in, deg, , ,N, , ,W, grid, , , ,N
Point30,xy, , ,in, deg, , ,N, , ,W, grid, , , ,N
Projection Setup, 0.000000000, -9.000000000, 1.000000000, 500000.00, 0.00,,,,,
Map Feature = MF ; Map Comment = MC These follow if they exist
Track File = TF These follow if they exist
Moving Map Parameters = MM? These follow if they exist
MM0,Yes
MMPNUM,4
MMPXY,1,97,99
MMPXY,2,3862,86
MMPXY,3,3877,2977
MMPXY,4,96,2987
MMPLL,1, -6.500000, 30.333333
MMPLL,2, -6.000000, 30.333333
MMPLL,3, -6.000000, 30.000000
MMPLL,4, -6.500000, 30.000000
MM1B,12.009088
MOP,Map Open Position,0,0
IWH,Map Image Width/Height,3967,3081
