OziExplorer Map Data File Version 2.2
100k--h29-046.gif
100k--h29-046.gif
1 ,Map Code,
Pulkovo 1942 (2),WGS 84, 0.0000, 0.0000,WGS 84
Reserved 1
Reserved 2
Magnetic Variation,,,E
Map Projection,Transverse Mercator,PolyCal,No,AutoCalOnly,No,BSBUseWPX,No
Point01,xy, 98, 97,in, deg, 31, 0.0000,N, 7, 30.0000,W, grid, , , ,N
Point02,xy, 1967, 96,in, deg, 31, 0.0000,N, 7, 15.0000,W, grid, , , ,N
Point03,xy, 3835, 87,in, deg, 31, 0.0000,N, 7, 0.0000,W, grid, , , ,N
Point04,xy, 97, 1535,in, deg, 30, 50.0000,N, 7, 30.0000,W, grid, , , ,N
Point05,xy, 1967, 1536,in, deg, 30, 50.0000,N, 7, 15.0000,W, grid, , , ,N
Point06,xy, 3841, 1527,in, deg, 30, 50.0000,N, 7, 0.0000,W, grid, , , ,N
Point07,xy, 95, 2977,in, deg, 30, 40.0000,N, 7, 30.0000,W, grid, , , ,N
Point08,xy, 1972, 2977,in, deg, 30, 40.0000,N, 7, 15.0000,W, grid, , , ,N
Point09,xy, 3846, 2969,in, deg, 30, 40.0000,N, 7, 0.0000,W, grid, , , ,N
Point10,xy, , ,in, deg, , ,N, , ,W, grid, , , ,N
Point11,xy, , ,in, deg, , ,N, , ,W, grid, , , ,N
Point12,xy, , ,in, deg, , ,N, , ,W, grid, , , ,N
Point13,xy, , ,in, deg, , ,N, , ,W, grid, , , ,N
Point14,xy, , ,in, deg, , ,N, , ,W, grid, , , ,N
Point15,xy, , ,in, deg, , ,N, , ,W, grid, , , ,N
Point16,xy, , ,in, deg, , ,N, , ,W, grid, , , ,N
Point17,xy, , ,in, deg, , ,N, , ,W, grid, , , ,N
Point18,xy, , ,in, deg, , ,N, , ,W, grid, , , ,N
Point19,xy, , ,in, deg, , ,N, , ,W, grid, , , ,N
Point20,xy, , ,in, deg, , ,N, , ,W, grid, , , ,N
Point21,xy, , ,in, deg, , ,N, , ,W, grid, , , ,N
Point22,xy, , ,in, deg, , ,N, , ,W, grid, , , ,N
Point23,xy, , ,in, deg, , ,N, , ,W, grid, , , ,N
Point24,xy, , ,in, deg, , ,N, , ,W, grid, , , ,N
Point25,xy, , ,in, deg, , ,N, , ,W, grid, , , ,N
Point26,xy, , ,in, deg, , ,N, , ,W, grid, , , ,N
Point27,xy, , ,in, deg, , ,N, , ,W, grid, , , ,N
Point28,xy, , ,in, deg, , ,N, , ,W, grid, , , ,N
Point29,xy, , ,in, deg, , ,N, , ,W, grid, , , ,N
Point30,xy, , ,in, deg, , ,N, , ,W, grid, , , ,N
Projection Setup, 0.000000000, -9.000000000, 1.000000000, 500000.00, 0.00,,,,,
Map Feature = MF ; Map Comment = MC These follow if they exist
Track File = TF These follow if they exist
Moving Map Parameters = MM? These follow if they exist
MM0,Yes
MMPNUM,4
MMPXY,1,98,97
MMPXY,2,3835,87
MMPXY,3,3846,2969
MMPXY,4,95,2977
MMPLL,1, -7.500000, 31.000000
MMPLL,2, -7.000000, 31.000000
MMPLL,3, -7.000000, 30.666667
MMPLL,4, -7.500000, 30.666667
MM1B,12.036435
MOP,Map Open Position,0,0
IWH,Map Image Width/Height,3936,3074
