OziExplorer Map Data File Version 2.2
100k--h29-011.gif
100k--h29-011.gif
1 ,Map Code,
Pulkovo 1942 (2),WGS 84, 0.0000, 0.0000,WGS 84
Reserved 1
Reserved 2
Magnetic Variation,,,E
Map Projection,Transverse Mercator,PolyCal,No,AutoCalOnly,No,BSBUseWPX,No
Point01,xy, 108, 93,in, deg, 32, 0.0000,N, 7, 0.0000,W, grid, , , ,N
Point02,xy, 1956, 101,in, deg, 32, 0.0000,N, 6, 45.0000,W, grid, , , ,N
Point03,xy, 3805, 102,in, deg, 32, 0.0000,N, 6, 30.0000,W, grid, , , ,N
Point04,xy, 100, 1535,in, deg, 31, 50.0000,N, 7, 0.0000,W, grid, , , ,N
Point05,xy, 1952, 1543,in, deg, 31, 50.0000,N, 6, 45.0000,W, grid, , , ,N
Point06,xy, 3805, 1544,in, deg, 31, 50.0000,N, 6, 30.0000,W, grid, , , ,N
Point07,xy, 92, 2978,in, deg, 31, 40.0000,N, 7, 0.0000,W, grid, , , ,N
Point08,xy, 1949, 2986,in, deg, 31, 40.0000,N, 6, 45.0000,W, grid, , , ,N
Point09,xy, 3806, 2988,in, deg, 31, 40.0000,N, 6, 30.0000,W, grid, , , ,N
Point10,xy, , ,in, deg, , ,N, , ,W, grid, , , ,N
Point11,xy, , ,in, deg, , ,N, , ,W, grid, , , ,N
Point12,xy, , ,in, deg, , ,N, , ,W, grid, , , ,N
Point13,xy, , ,in, deg, , ,N, , ,W, grid, , , ,N
Point14,xy, , ,in, deg, , ,N, , ,W, grid, , , ,N
Point15,xy, , ,in, deg, , ,N, , ,W, grid, , , ,N
Point16,xy, , ,in, deg, , ,N, , ,W, grid, , , ,N
Point17,xy, , ,in, deg, , ,N, , ,W, grid, , , ,N
Point18,xy, , ,in, deg, , ,N, , ,W, grid, , , ,N
Point19,xy, , ,in, deg, , ,N, , ,W, grid, , , ,N
Point20,xy, , ,in, deg, , ,N, , ,W, grid, , , ,N
Point21,xy, , ,in, deg, , ,N, , ,W, grid, , , ,N
Point22,xy, , ,in, deg, , ,N, , ,W, grid, , , ,N
Point23,xy, , ,in, deg, , ,N, , ,W, grid, , , ,N
Point24,xy, , ,in, deg, , ,N, , ,W, grid, , , ,N
Point25,xy, , ,in, deg, , ,N, , ,W, grid, , , ,N
Point26,xy, , ,in, deg, , ,N, , ,W, grid, , , ,N
Point27,xy, , ,in, deg, , ,N, , ,W, grid, , , ,N
Point28,xy, , ,in, deg, , ,N, , ,W, grid, , , ,N
Point29,xy, , ,in, deg, , ,N, , ,W, grid, , , ,N
Point30,xy, , ,in, deg, , ,N, , ,W, grid, , , ,N
Projection Setup, 0.000000000, -9.000000000, 1.000000000, 500000.00, 0.00,,,,,
Map Feature = MF ; Map Comment = MC These follow if they exist
Track File = TF These follow if they exist
Moving Map Parameters = MM? These follow if they exist
MM0,Yes
MMPNUM,4
MMPXY,1,108,93
MMPXY,2,3805,102
MMPXY,3,3806,2988
MMPXY,4,92,2978
MMPLL,1, -7.000000, 32.000000
MMPLL,2, -6.500000, 32.000000
MMPLL,3, -6.500000, 31.666667
MMPLL,4, -7.000000, 31.666667
MM1B,11.997406
MOP,Map Open Position,0,0
IWH,Map Image Width/Height,3898,3084
