OziExplorer Map Data File Version 2.2
100k--h29-009.gif
100k--h29-009.gif
1 ,Map Code,
Pulkovo 1942 (2),WGS 84, 0.0000, 0.0000,WGS 84
Reserved 1
Reserved 2
Magnetic Variation,,,E
Map Projection,Transverse Mercator,PolyCal,No,AutoCalOnly,No,BSBUseWPX,No
Point01,xy, 102, 91,in, deg, 32, 0.0000,N, 8, 0.0000,W, grid, , , ,N
Point02,xy, 1952, 94,in, deg, 32, 0.0000,N, 7, 45.0000,W, grid, , , ,N
Point03,xy, 3800, 90,in, deg, 32, 0.0000,N, 7, 30.0000,W, grid, , , ,N
Point04,xy, 96, 1533,in, deg, 31, 50.0000,N, 8, 0.0000,W, grid, , , ,N
Point05,xy, 1949, 1535,in, deg, 31, 50.0000,N, 7, 45.0000,W, grid, , , ,N
Point06,xy, 3804, 1534,in, deg, 31, 50.0000,N, 7, 30.0000,W, grid, , , ,N
Point07,xy, 90, 2976,in, deg, 31, 40.0000,N, 8, 0.0000,W, grid, , , ,N
Point08,xy, 1949, 2979,in, deg, 31, 40.0000,N, 7, 45.0000,W, grid, , , ,N
Point09,xy, 3805, 2976,in, deg, 31, 40.0000,N, 7, 30.0000,W, grid, , , ,N
Point10,xy, , ,in, deg, , ,N, , ,W, grid, , , ,N
Point11,xy, , ,in, deg, , ,N, , ,W, grid, , , ,N
Point12,xy, , ,in, deg, , ,N, , ,W, grid, , , ,N
Point13,xy, , ,in, deg, , ,N, , ,W, grid, , , ,N
Point14,xy, , ,in, deg, , ,N, , ,W, grid, , , ,N
Point15,xy, , ,in, deg, , ,N, , ,W, grid, , , ,N
Point16,xy, , ,in, deg, , ,N, , ,W, grid, , , ,N
Point17,xy, , ,in, deg, , ,N, , ,W, grid, , , ,N
Point18,xy, , ,in, deg, , ,N, , ,W, grid, , , ,N
Point19,xy, , ,in, deg, , ,N, , ,W, grid, , , ,N
Point20,xy, , ,in, deg, , ,N, , ,W, grid, , , ,N
Point21,xy, , ,in, deg, , ,N, , ,W, grid, , , ,N
Point22,xy, , ,in, deg, , ,N, , ,W, grid, , , ,N
Point23,xy, , ,in, deg, , ,N, , ,W, grid, , , ,N
Point24,xy, , ,in, deg, , ,N, , ,W, grid, , , ,N
Point25,xy, , ,in, deg, , ,N, , ,W, grid, , , ,N
Point26,xy, , ,in, deg, , ,N, , ,W, grid, , , ,N
Point27,xy, , ,in, deg, , ,N, , ,W, grid, , , ,N
Point28,xy, , ,in, deg, , ,N, , ,W, grid, , , ,N
Point29,xy, , ,in, deg, , ,N, , ,W, grid, , , ,N
Point30,xy, , ,in, deg, , ,N, , ,W, grid, , , ,N
Projection Setup, 0.000000000, -9.000000000, 1.000000000, 500000.00, 0.00,,,,,
Map Feature = MF ; Map Comment = MC These follow if they exist
Track File = TF These follow if they exist
Moving Map Parameters = MM? These follow if they exist
MM0,Yes
MMPNUM,4
MMPXY,1,102,91
MMPXY,2,3800,90
MMPXY,3,3805,2976
MMPXY,4,90,2976
MMPLL,1, -8.000000, 32.000000
MMPLL,2, -7.500000, 32.000000
MMPLL,3, -7.500000, 31.666667
MMPLL,4, -8.000000, 31.666667
MM1B,12.036435
MOP,Map Open Position,0,0
IWH,Map Image Width/Height,3896,3074
